BEGIN:VCALENDAR
VERSION:2.0
PRODID:-//Catholic Telegraph - ECPv5.2.1.1//NONSGML v1.0//EN
CALSCALE:GREGORIAN
METHOD:PUBLISH
X-WR-CALNAME:Catholic Telegraph
X-ORIGINAL-URL:https://www.thecatholictelegraph.com
X-WR-CALDESC:Events for Catholic Telegraph
BEGIN:VTIMEZONE
TZID:America/New_York
BEGIN:DAYLIGHT
TZOFFSETFROM:-0500
TZOFFSETTO:-0400
TZNAME:EDT
DTSTART:20180311T070000
END:DAYLIGHT
BEGIN:STANDARD
TZOFFSETFROM:-0400
TZOFFSETTO:-0500
TZNAME:EST
DTSTART:20181104T060000
END:STANDARD
END:VTIMEZONE
BEGIN:VEVENT
DTSTART;TZID=America/New_York:20181210T190000
DTEND;TZID=America/New_York:20181210T200000
DTSTAMP:20260419T123625
CREATED:20181129T211915Z
LAST-MODIFIED:20181129T211915Z
UID:55184-1544468400-1544472000@www.thecatholictelegraph.com
SUMMARY:Holy Hour
DESCRIPTION:The Blessed Sacrament will be exposed at the altar from 7:00 p.m. – 8:00 p.m.
URL:https://www.thecatholictelegraph.com/event/holy-hour
LOCATION:St. John the Baptist (Tipp City)\, 753 South Hyatt Street\, Tipp City\, Ohio\, 45371
GEO:39.9510342;-84.175844
X-APPLE-STRUCTURED-LOCATION;VALUE=URI;X-ADDRESS=St. John the Baptist (Tipp City) 753 South Hyatt Street Tipp City Ohio 45371;X-APPLE-RADIUS=500;X-TITLE=753 South Hyatt Street:geo:-84.175844,39.9510342
END:VEVENT
END:VCALENDAR