BEGIN:VCALENDAR
VERSION:2.0
PRODID:-//Catholic Telegraph - ECPv5.2.1.1//NONSGML v1.0//EN
CALSCALE:GREGORIAN
METHOD:PUBLISH
X-WR-CALNAME:Catholic Telegraph
X-ORIGINAL-URL:https://www.thecatholictelegraph.com
X-WR-CALDESC:Events for Catholic Telegraph
BEGIN:VTIMEZONE
TZID:America/New_York
BEGIN:DAYLIGHT
TZOFFSETFROM:-0500
TZOFFSETTO:-0400
TZNAME:EDT
DTSTART:20260308T070000
END:DAYLIGHT
BEGIN:STANDARD
TZOFFSETFROM:-0400
TZOFFSETTO:-0500
TZNAME:EST
DTSTART:20261101T060000
END:STANDARD
END:VTIMEZONE
BEGIN:VEVENT
DTSTART;TZID=America/New_York:20260724T180000
DTEND;TZID=America/New_York:20260724T235900
DTSTAMP:20260419T075012
CREATED:20260413T192548Z
LAST-MODIFIED:20260413T192548Z
UID:106661-1784916000-1784937540@www.thecatholictelegraph.com
SUMMARY:Holy Trinity Festival Norwood
DESCRIPTION:Holy Trinity Norwood\nCrescent Family of Parishes\nFriday\, July 24\, 6:00 p.m. – Midnight\nSaturday\, July 25\, 6:00 p.m. – Midnight\nSunday\, July 26\, 4:00 p.m. – 10:00 p.m.\n2420 Drex Ave.\, Norwood\, OH 45212\n513-366-4400
URL:https://www.thecatholictelegraph.com/event/holy-trinity-festival-norwood
ATTACH;FMTTYPE=image/jpeg:https://www.thecatholictelegraph.com/wp-content/uploads/2017/06/DSC_0977.jpg
END:VEVENT
END:VCALENDAR