BEGIN:VCALENDAR
VERSION:2.0
PRODID:-//Catholic Telegraph - ECPv5.2.1.1//NONSGML v1.0//EN
CALSCALE:GREGORIAN
METHOD:PUBLISH
X-WR-CALNAME:Catholic Telegraph
X-ORIGINAL-URL:https://www.thecatholictelegraph.com
X-WR-CALDESC:Events for Catholic Telegraph
BEGIN:VTIMEZONE
TZID:America/New_York
BEGIN:DAYLIGHT
TZOFFSETFROM:-0500
TZOFFSETTO:-0400
TZNAME:EDT
DTSTART:20190310T070000
END:DAYLIGHT
BEGIN:STANDARD
TZOFFSETFROM:-0400
TZOFFSETTO:-0500
TZNAME:EST
DTSTART:20191103T060000
END:STANDARD
END:VTIMEZONE
BEGIN:VEVENT
DTSTART;VALUE=DATE:20190111
DTEND;VALUE=DATE:20190114
DTSTAMP:20260421T065500
CREATED:20181211T210633Z
LAST-MODIFIED:20181211T210653Z
UID:55449-1547164800-1547423999@www.thecatholictelegraph.com
SUMMARY:If your Marriage Needs Help: Retrouvaille a lifeline
DESCRIPTION:Life can be difficult and so can the challenges you face in marriage. Retrouvaille can help and offers hope for a better relationship. This is a confidential peer ministry of volunteer couples that can help you learn the tools of healthy communication\, build intimacy and healing. For more information\, go to http://www.cincyretrouvaille.org/
URL:https://www.thecatholictelegraph.com/event/if-your-marriage-needs-help-retrouvaille-a-lifeline
LOCATION:Retrouvaille
END:VEVENT
END:VCALENDAR