BEGIN:VCALENDAR
VERSION:2.0
PRODID:-//Catholic Telegraph - ECPv5.2.1.1//NONSGML v1.0//EN
CALSCALE:GREGORIAN
METHOD:PUBLISH
X-WR-CALNAME:Catholic Telegraph
X-ORIGINAL-URL:https://www.thecatholictelegraph.com
X-WR-CALDESC:Events for Catholic Telegraph
BEGIN:VTIMEZONE
TZID:America/New_York
BEGIN:DAYLIGHT
TZOFFSETFROM:-0500
TZOFFSETTO:-0400
TZNAME:EDT
DTSTART:20180311T070000
END:DAYLIGHT
BEGIN:STANDARD
TZOFFSETFROM:-0400
TZOFFSETTO:-0500
TZNAME:EST
DTSTART:20181104T060000
END:STANDARD
END:VTIMEZONE
BEGIN:VEVENT
DTSTART;TZID=America/New_York:20180618T190000
DTEND;TZID=America/New_York:20180618T200000
DTSTAMP:20260420T115846
CREATED:20180521T181636Z
LAST-MODIFIED:20180521T181636Z
UID:51530-1529348400-1529352000@www.thecatholictelegraph.com
SUMMARY:Laudato si' Prayer Service at Good Shepherd
DESCRIPTION:Archbishop Dennis M. Schnurr will lead a prayer service at which members of the parishes\, schools\, and communities recognized as “Laudato si’ Communities” will be given special banners to display. Held on the anniversary of the publication of “Laudato si ” (Pope Francis’s encyclical on the environment and human flourishing)\, the service is open to all.
URL:https://www.thecatholictelegraph.com/event/laudato-si-prayer-service-at-good-shepherd
LOCATION:Good Shepherd Church\, 8815 E. Kemper Rd\, Cincinnati\, OH\, 45249-2718\, United States
GEO:39.2660201;-84.3198457
X-APPLE-STRUCTURED-LOCATION;VALUE=URI;X-ADDRESS=Good Shepherd Church 8815 E. Kemper Rd Cincinnati OH 45249-2718 United States;X-APPLE-RADIUS=500;X-TITLE=8815 E. Kemper Rd:geo:-84.3198457,39.2660201
END:VEVENT
END:VCALENDAR