BEGIN:VCALENDAR
VERSION:2.0
PRODID:-//Catholic Telegraph - ECPv5.2.1.1//NONSGML v1.0//EN
CALSCALE:GREGORIAN
METHOD:PUBLISH
X-WR-CALNAME:Catholic Telegraph
X-ORIGINAL-URL:https://www.thecatholictelegraph.com
X-WR-CALDESC:Events for Catholic Telegraph
BEGIN:VTIMEZONE
TZID:America/New_York
BEGIN:DAYLIGHT
TZOFFSETFROM:-0500
TZOFFSETTO:-0400
TZNAME:EDT
DTSTART:20240310T070000
END:DAYLIGHT
BEGIN:STANDARD
TZOFFSETFROM:-0400
TZOFFSETTO:-0500
TZNAME:EST
DTSTART:20241103T060000
END:STANDARD
END:VTIMEZONE
BEGIN:VEVENT
DTSTART;TZID=America/New_York:20240222T190000
DTEND;TZID=America/New_York:20240222T210000
DTSTAMP:20260421T071503
CREATED:20240221T195256Z
LAST-MODIFIED:20240226T163040Z
UID:95147-1708628400-1708635600@www.thecatholictelegraph.com
SUMMARY:Lenten Parish Mission at St Ignatius Cincinnati
DESCRIPTION:
URL:https://www.thecatholictelegraph.com/event/lenten-parish-mission-at-st-ignatius-cincinnati/2024-02-22
LOCATION:St. Ignatius Loyola (Monfort Heights)\, 5222 North Bend Road\, Cincinnati\, OH\, 45247
ATTACH;FMTTYPE=image/jpeg:https://www.thecatholictelegraph.com/wp-content/uploads/2019/08/Kenneth-Craycrafta.jpg
GEO:39.1825902;-84.6032458
X-APPLE-STRUCTURED-LOCATION;VALUE=URI;X-ADDRESS=St. Ignatius Loyola (Monfort Heights) 5222 North Bend Road Cincinnati OH 45247;X-APPLE-RADIUS=500;X-TITLE=5222 North Bend Road:geo:-84.6032458,39.1825902
END:VEVENT
END:VCALENDAR