BEGIN:VCALENDAR
VERSION:2.0
PRODID:-//Catholic Telegraph - ECPv5.2.1.1//NONSGML v1.0//EN
CALSCALE:GREGORIAN
METHOD:PUBLISH
X-WR-CALNAME:Catholic Telegraph
X-ORIGINAL-URL:https://www.thecatholictelegraph.com
X-WR-CALDESC:Events for Catholic Telegraph
BEGIN:VTIMEZONE
TZID:America/New_York
BEGIN:DAYLIGHT
TZOFFSETFROM:-0500
TZOFFSETTO:-0400
TZNAME:EDT
DTSTART:20180311T070000
END:DAYLIGHT
BEGIN:STANDARD
TZOFFSETFROM:-0400
TZOFFSETTO:-0500
TZNAME:EST
DTSTART:20181104T060000
END:STANDARD
END:VTIMEZONE
BEGIN:VEVENT
DTSTART;TZID=America/New_York:20181007T140000
DTEND;TZID=America/New_York:20181007T153000
DTSTAMP:20260419T113007
CREATED:20180803T161742Z
LAST-MODIFIED:20180803T161742Z
UID:53128-1538920800-1538926200@www.thecatholictelegraph.com
SUMMARY:Life Chain Observance in Kettering
DESCRIPTION:Hundreds participate in this annual observance of the national Life Chain prayer vigil and event each year\, lining both sides of East Stroop Road\, where Martin Haskell’s late term abortion business now operates five days a week (up from four) and uses five abortionists (up from three). Pro-life activists estimate that the business does about 40 abortions every week. \nContact Debbie Nieport at 937-829-4646 or psalm27@donet.com to confirm participation\, reserve a spot on the Life Chain\, and receive your Life Chain promotional material to use and share.
URL:https://www.thecatholictelegraph.com/event/life-chain-observance-in-kettering-2
LOCATION:Women’s Med Center\, 1401 E. Stroop Road\, KEttering\, OH\, 45429
GEO:39.6891778;-84.1411692
X-APPLE-STRUCTURED-LOCATION;VALUE=URI;X-ADDRESS=Women’s Med Center 1401 E. Stroop Road KEttering OH 45429;X-APPLE-RADIUS=500;X-TITLE=1401 E. Stroop Road:geo:-84.1411692,39.6891778
END:VEVENT
END:VCALENDAR