BEGIN:VCALENDAR
VERSION:2.0
PRODID:-//Catholic Telegraph - ECPv5.2.1.1//NONSGML v1.0//EN
CALSCALE:GREGORIAN
METHOD:PUBLISH
X-WR-CALNAME:Catholic Telegraph
X-ORIGINAL-URL:https://www.thecatholictelegraph.com
X-WR-CALDESC:Events for Catholic Telegraph
BEGIN:VTIMEZONE
TZID:America/New_York
BEGIN:DAYLIGHT
TZOFFSETFROM:-0500
TZOFFSETTO:-0400
TZNAME:EDT
DTSTART:20170312T070000
END:DAYLIGHT
BEGIN:STANDARD
TZOFFSETFROM:-0400
TZOFFSETTO:-0500
TZNAME:EST
DTSTART:20171105T060000
END:STANDARD
END:VTIMEZONE
BEGIN:VEVENT
DTSTART;TZID=America/New_York:20170916T090000
DTEND;TZID=America/New_York:20170916T153000
DTSTAMP:20260422T133325
CREATED:20170809T190406Z
LAST-MODIFIED:20170809T190406Z
UID:44337-1505552400-1505575800@www.thecatholictelegraph.com
SUMMARY:LifeTech Conference in Cedarville
DESCRIPTION:Annual pro-life conference focused on science and technology; presentation are by physicians\, professors\, and other professional members of the pro-life community. This year’s keynote: John Horvat II of the American Society for the Defense of Tradition\, Family & Property and the author of “Return to Order.” His talk will be titled “The Coming Pro-Life Challenge\, What it Will Take to Win.” Other presentations will include talks on embryonic life\, contraceptive vaccines\, brain death and organ donation\, internet ads\, adult stem cell research\, and Down Syndrome. Tickets are $60/adults\, $30/students and include continental breakfast and lunch. Students may attend at no cost if they do not stay for lunch. Clark County Right to Life offers scholarships for any who need financial help to attend\, for information call (937) 521-2401.
URL:https://www.thecatholictelegraph.com/event/lifetech-conference-in-cedarville
LOCATION:Cedarville University\, 251 N. Main Street\, Cedarville\, Ohio\, 45314
GEO:39.7468991;-83.8098836
X-APPLE-STRUCTURED-LOCATION;VALUE=URI;X-ADDRESS=Cedarville University 251 N. Main Street Cedarville Ohio 45314;X-APPLE-RADIUS=500;X-TITLE=251 N. Main Street:geo:-83.8098836,39.7468991
END:VEVENT
END:VCALENDAR