BEGIN:VCALENDAR
VERSION:2.0
PRODID:-//Catholic Telegraph - ECPv5.2.1.1//NONSGML v1.0//EN
CALSCALE:GREGORIAN
METHOD:PUBLISH
X-WR-CALNAME:Catholic Telegraph
X-ORIGINAL-URL:https://www.thecatholictelegraph.com
X-WR-CALDESC:Events for Catholic Telegraph
BEGIN:VTIMEZONE
TZID:America/New_York
BEGIN:DAYLIGHT
TZOFFSETFROM:-0500
TZOFFSETTO:-0400
TZNAME:EDT
DTSTART:20170312T070000
END:DAYLIGHT
BEGIN:STANDARD
TZOFFSETFROM:-0400
TZOFFSETTO:-0500
TZNAME:EST
DTSTART:20171105T060000
END:STANDARD
END:VTIMEZONE
BEGIN:VEVENT
DTSTART;TZID=America/New_York:20171103T170000
DTEND;TZID=America/New_York:20171103T233000
DTSTAMP:20260419T111426
CREATED:20170522T150659Z
LAST-MODIFIED:20170522T150659Z
UID:42080-1509728400-1509751800@www.thecatholictelegraph.com
SUMMARY:Marriage Encounter Weekend Begins in Maria Stein
DESCRIPTION:Nov. 3-5. Worldwide Marriage Encounter invites married couples to focus on each other and enrich their marriages at this weekend event. Start time approximate; for information on time and fee call Dave Stockman at (513) 251-1940.
URL:https://www.thecatholictelegraph.com/event/marriage-encounter-weekend-begins-in-maria-stein
LOCATION:Spiritual Center of Maria Stein\, 2365 St. John’s Rd\, Maria Stein\, OH
GEO:40.4174993;-84.4743448
X-APPLE-STRUCTURED-LOCATION;VALUE=URI;X-ADDRESS=Spiritual Center of Maria Stein 2365 St. John’s Rd Maria Stein OH;X-APPLE-RADIUS=500;X-TITLE=2365 St. John’s Rd:geo:-84.4743448,40.4174993
END:VEVENT
END:VCALENDAR