BEGIN:VCALENDAR
VERSION:2.0
PRODID:-//Catholic Telegraph - ECPv5.2.1.1//NONSGML v1.0//EN
CALSCALE:GREGORIAN
METHOD:PUBLISH
X-WR-CALNAME:Catholic Telegraph
X-ORIGINAL-URL:https://www.thecatholictelegraph.com
X-WR-CALDESC:Events for Catholic Telegraph
BEGIN:VTIMEZONE
TZID:America/New_York
BEGIN:DAYLIGHT
TZOFFSETFROM:-0500
TZOFFSETTO:-0400
TZNAME:EDT
DTSTART:20170312T070000
END:DAYLIGHT
BEGIN:STANDARD
TZOFFSETFROM:-0400
TZOFFSETTO:-0500
TZNAME:EST
DTSTART:20171105T060000
END:STANDARD
END:VTIMEZONE
BEGIN:VEVENT
DTSTART;TZID=America/New_York:20171020T170000
DTEND;TZID=America/New_York:20171020T233000
DTSTAMP:20260419T141628
CREATED:20170522T150837Z
LAST-MODIFIED:20170522T150837Z
UID:42083-1508518800-1508542200@www.thecatholictelegraph.com
SUMMARY:Marriage Encounter Weekend Begins in Norwood
DESCRIPTION:Oct. 20-22. Worldwide Marriage Encounter invites married couples to focus on each other and enrich their marriages at this weekend event. Start time approximate; for information on time and fee call Dave Stockman at (513) 251-1940.
URL:https://www.thecatholictelegraph.com/event/marriage-encounter-weekend-begins-in-norwood
LOCATION:Our Lady of the Holy Spirit Center\, 5440 Moeller Avenue\, Norwood\, OH\, 45212\, United States
GEO:39.1727799;-84.4461511
X-APPLE-STRUCTURED-LOCATION;VALUE=URI;X-ADDRESS=Our Lady of the Holy Spirit Center 5440 Moeller Avenue Norwood OH 45212 United States;X-APPLE-RADIUS=500;X-TITLE=5440 Moeller Avenue:geo:-84.4461511,39.1727799
END:VEVENT
END:VCALENDAR