BEGIN:VCALENDAR
VERSION:2.0
PRODID:-//Catholic Telegraph - ECPv5.2.1.1//NONSGML v1.0//EN
CALSCALE:GREGORIAN
METHOD:PUBLISH
X-WR-CALNAME:Catholic Telegraph
X-ORIGINAL-URL:https://www.thecatholictelegraph.com
X-WR-CALDESC:Events for Catholic Telegraph
BEGIN:VTIMEZONE
TZID:America/New_York
BEGIN:DAYLIGHT
TZOFFSETFROM:-0500
TZOFFSETTO:-0400
TZNAME:EDT
DTSTART:20220313T070000
END:DAYLIGHT
BEGIN:STANDARD
TZOFFSETFROM:-0400
TZOFFSETTO:-0500
TZNAME:EST
DTSTART:20221106T060000
END:STANDARD
END:VTIMEZONE
BEGIN:VEVENT
DTSTART;TZID=America/New_York:20220917T150000
DTEND;TZID=America/New_York:20220917T170000
DTSTAMP:20260420T144757
CREATED:20220914T224414Z
LAST-MODIFIED:20220914T224414Z
UID:82623-1663426800-1663434000@www.thecatholictelegraph.com
SUMMARY:Mass for the Feast of St. Francis Concert
DESCRIPTION:  \nMass for the Feast of St. Francis Concert  \nFeaturing the poetry of Fr. Murray Bodo\, OFM\, set to music by Michael Chertock\, resident pianist of the Cincinnati Symphony Orchestra \nSunday\, Sept. 17\, 3 p.m. St. Francis Seraph Church  \n1615 Vine St.\, at the corner of Liberty and Vine\, Cincinnati\, OH 45202 \n513-235-2719 \nSfsparish.org \nConcert is free\, but free will offerings will be accepted with proceeds to benefit the Center for Respite Care
URL:https://www.thecatholictelegraph.com/event/mass-for-the-feast-of-st-francis-concert
ATTACH;FMTTYPE=image/jpeg:https://www.thecatholictelegraph.com/wp-content/uploads/2020/05/My-Post-2020-05-17T165203.887.jpg
END:VEVENT
END:VCALENDAR