BEGIN:VCALENDAR
VERSION:2.0
PRODID:-//Catholic Telegraph - ECPv5.2.1.1//NONSGML v1.0//EN
CALSCALE:GREGORIAN
METHOD:PUBLISH
X-WR-CALNAME:Catholic Telegraph
X-ORIGINAL-URL:https://www.thecatholictelegraph.com
X-WR-CALDESC:Events for Catholic Telegraph
BEGIN:VTIMEZONE
TZID:America/New_York
BEGIN:DAYLIGHT
TZOFFSETFROM:-0500
TZOFFSETTO:-0400
TZNAME:EDT
DTSTART:20260308T070000
END:DAYLIGHT
BEGIN:STANDARD
TZOFFSETFROM:-0400
TZOFFSETTO:-0500
TZNAME:EST
DTSTART:20261101T060000
END:STANDARD
END:VTIMEZONE
BEGIN:VEVENT
DTSTART;TZID=America/New_York:20260307T080000
DTEND;TZID=America/New_York:20260307T170000
DTSTAMP:20260425T233126
CREATED:20260301T161043Z
LAST-MODIFIED:20260301T161043Z
UID:105192-1772870400-1772902800@www.thecatholictelegraph.com
SUMMARY:Men's Lenten Retreat at Our Lady of Good Hope Miamisburg
DESCRIPTION:St. John Paul II Family of Parishes\nMen’s Lenten Retreat at Our Lady of Good Hope\, 6 S Third Street\, Miamisburg\, OH 45342\nSaturday. March 7\n8:00 a.m. \nReady for a spiritual refresh? Join us for a life-changing Catholic renewal retreat. Discover deeper meaning and purpose to your life\, reconnect with God\, gain new insights through talks\, discussion and personal reflection\, meet new friends in our parish family\, and find greater peace and joy for the journey. \nDATES & LOCATIONS: \nWOMEN’s Renewal – Sat\, MAR 21\, 2026\, 8:00 AM\, St. Henry (Parish Activity Center) \nMEN’s Renewal – Sat\, MAR 7\, 2026\, 8:00 AM\, Our Lady of Good Hope (St. Joseph Center)​ \nREGISTRATION: \nWOMEN’s Renewal  \nMEN’s Renewal \n(NOTE: Registration is required.) \nRESOURCES: All resources are provided by the host Renewal team. \nCOORDINATOR: \nLisa Heck\, 425-686-5884\, womenswelcomeretreat@yahoo.com \nKen Heck\, 425-299-0422\, menswelcomeretreat@yahoo.com \n 
URL:https://www.thecatholictelegraph.com/event/mens-lenten-retreat-at-our-lady-of-good-hope-miamisburg
LOCATION:Our Lady of Good Hope (Miamisburg)\, 6 S. Third Street\, Miamisburg\, OH\, 45342\, United States
ATTACH;FMTTYPE=image/jpeg:https://www.thecatholictelegraph.com/wp-content/uploads/2020/01/e6men-1.jpg
GEO:39.6412926;-84.2853764
X-APPLE-STRUCTURED-LOCATION;VALUE=URI;X-ADDRESS=Our Lady of Good Hope (Miamisburg) 6 S. Third Street Miamisburg OH 45342 United States;X-APPLE-RADIUS=500;X-TITLE=6 S. Third Street:geo:-84.2853764,39.6412926
END:VEVENT
END:VCALENDAR