BEGIN:VCALENDAR
VERSION:2.0
PRODID:-//Catholic Telegraph - ECPv5.2.1.1//NONSGML v1.0//EN
CALSCALE:GREGORIAN
METHOD:PUBLISH
X-WR-CALNAME:Catholic Telegraph
X-ORIGINAL-URL:https://www.thecatholictelegraph.com
X-WR-CALDESC:Events for Catholic Telegraph
BEGIN:VTIMEZONE
TZID:America/New_York
BEGIN:DAYLIGHT
TZOFFSETFROM:-0500
TZOFFSETTO:-0400
TZNAME:EDT
DTSTART:20240310T070000
END:DAYLIGHT
BEGIN:STANDARD
TZOFFSETFROM:-0400
TZOFFSETTO:-0500
TZNAME:EST
DTSTART:20241103T060000
END:STANDARD
END:VTIMEZONE
BEGIN:VEVENT
DTSTART;VALUE=DATE:20240701
DTEND;VALUE=DATE:20240708
DTSTAMP:20260421T004033
CREATED:20240624T182315Z
LAST-MODIFIED:20240624T182357Z
UID:96689-1719792000-1720396799@www.thecatholictelegraph.com
SUMMARY:National Eucharistic Pilgrimage in the Archdiocese of Cincinnati
DESCRIPTION:DOWNLOAD0724_magazine_NEPevents
URL:https://www.thecatholictelegraph.com/event/national-eucharistic-pilgrimage-in-the-archdiocese-of-cincinnati
ATTACH;FMTTYPE=image/jpeg:https://www.thecatholictelegraph.com/wp-content/uploads/2024/06/0724_magazine_final1_Page_23-1.jpg
END:VEVENT
END:VCALENDAR