BEGIN:VCALENDAR
VERSION:2.0
PRODID:-//Catholic Telegraph - ECPv5.2.1.1//NONSGML v1.0//EN
CALSCALE:GREGORIAN
METHOD:PUBLISH
X-WR-CALNAME:Catholic Telegraph
X-ORIGINAL-URL:https://www.thecatholictelegraph.com
X-WR-CALDESC:Events for Catholic Telegraph
BEGIN:VTIMEZONE
TZID:America/New_York
BEGIN:DAYLIGHT
TZOFFSETFROM:-0500
TZOFFSETTO:-0400
TZNAME:EDT
DTSTART:20170312T070000
END:DAYLIGHT
BEGIN:STANDARD
TZOFFSETFROM:-0400
TZOFFSETTO:-0500
TZNAME:EST
DTSTART:20171105T060000
END:STANDARD
END:VTIMEZONE
BEGIN:VEVENT
DTSTART;TZID=America/New_York:20170812T173000
DTEND;TZID=America/New_York:20170812T210000
DTSTAMP:20260425T065146
CREATED:20170801T152002Z
LAST-MODIFIED:20170801T152002Z
UID:44049-1502559000-1502571600@www.thecatholictelegraph.com
SUMMARY:New Organ Celebration and Relic Veneration at St. Gertrude (Madeira)
DESCRIPTION:“An Evening of Celebration” will include veneration of relics (5:30) accompanied by music on the new organ; Solemn Vespers with the Dominican community and blessing of the new organ (6 pm); solemn placing of all relics in new reliquary and blessing of reliquary accompanied by music on the new organ (6:30). pot luck supper in the gym.
URL:https://www.thecatholictelegraph.com/event/new-organ-celebration-and-relic-veneration-at-st-gertrude-madeira
LOCATION:St. Gertrude Church\, 6543 Miami Ave\, Cincinnati\, OH\, 45243\, United States
GEO:39.1814629;-84.3654076
X-APPLE-STRUCTURED-LOCATION;VALUE=URI;X-ADDRESS=St. Gertrude Church 6543 Miami Ave Cincinnati OH 45243 United States;X-APPLE-RADIUS=500;X-TITLE=6543 Miami Ave:geo:-84.3654076,39.1814629
END:VEVENT
END:VCALENDAR