BEGIN:VCALENDAR
VERSION:2.0
PRODID:-//Catholic Telegraph - ECPv5.2.1.1//NONSGML v1.0//EN
CALSCALE:GREGORIAN
METHOD:PUBLISH
X-WR-CALNAME:Catholic Telegraph
X-ORIGINAL-URL:https://www.thecatholictelegraph.com
X-WR-CALDESC:Events for Catholic Telegraph
BEGIN:VTIMEZONE
TZID:America/New_York
BEGIN:DAYLIGHT
TZOFFSETFROM:-0500
TZOFFSETTO:-0400
TZNAME:EDT
DTSTART:20170312T070000
END:DAYLIGHT
BEGIN:STANDARD
TZOFFSETFROM:-0400
TZOFFSETTO:-0500
TZNAME:EST
DTSTART:20171105T060000
END:STANDARD
END:VTIMEZONE
BEGIN:VEVENT
DTSTART;TZID=America/New_York:20171226T140000
DTEND;TZID=America/New_York:20171226T170000
DTSTAMP:20260420T095812
CREATED:20171212T154356Z
LAST-MODIFIED:20171212T154356Z
UID:47380-1514296800-1514307600@www.thecatholictelegraph.com
SUMMARY:Open House at St. Mary's (Dayton) begins
DESCRIPTION:Dec. 26 – 28. ANNUAL CHRISTMAS OPEN HOUSE: Follow the Star in the East (Dayton) to the Twin Towers – historic St. Mary’s Church – for their Christmas Open House. See the large Nativity display with more than 100 statues. Bring your family\, friends and a camera! \nDec 26: 2-5 p.m.\nDec 27: 6-8 p.m.\nDec. 28\, 6-8 pm..
URL:https://www.thecatholictelegraph.com/event/open-house-at-st-marys-dayton-begins
LOCATION:St. Mary (Dayton)\, 310 Allen Street\, Dayton\, Ohio\, 45410
END:VEVENT
END:VCALENDAR