BEGIN:VCALENDAR
VERSION:2.0
PRODID:-//Catholic Telegraph - ECPv5.2.1.1//NONSGML v1.0//EN
CALSCALE:GREGORIAN
METHOD:PUBLISH
X-WR-CALNAME:Catholic Telegraph
X-ORIGINAL-URL:https://www.thecatholictelegraph.com
X-WR-CALDESC:Events for Catholic Telegraph
BEGIN:VTIMEZONE
TZID:America/New_York
BEGIN:DAYLIGHT
TZOFFSETFROM:-0500
TZOFFSETTO:-0400
TZNAME:EDT
DTSTART:20170312T070000
END:DAYLIGHT
BEGIN:STANDARD
TZOFFSETFROM:-0400
TZOFFSETTO:-0500
TZNAME:EST
DTSTART:20171105T060000
END:STANDARD
END:VTIMEZONE
BEGIN:VEVENT
DTSTART;TZID=America/New_York:20170513T163000
DTEND;TZID=America/New_York:20170513T200000
DTSTAMP:20260425T205920
CREATED:20170501T171625Z
LAST-MODIFIED:20170501T171625Z
UID:41613-1494693000-1494705600@www.thecatholictelegraph.com
SUMMARY:Our Lady of Fatima Celebration at St. Denis (Versailles)
DESCRIPTION:Mark the beginning of the 100th anniversary of the appearances of Our Lady in Fatima at St. Denis. Rosary at 4:30\, followed by Mass and a showing of the film “Our Lady of Fatima.”  Pizza and drinks with movie! For information call Linda Meyer at (937) 621-4437. \n 
URL:https://www.thecatholictelegraph.com/event/our-lady-of-fatima-celebration-at-st-denis-versailles
LOCATION:St. Denis Church (Versallies)\, 14 E. Wood St.\, Versailles\, Ohio\, 45380
GEO:40.2214831;-84.4836459
X-APPLE-STRUCTURED-LOCATION;VALUE=URI;X-ADDRESS=St. Denis Church (Versallies) 14 E. Wood St. Versailles Ohio 45380;X-APPLE-RADIUS=500;X-TITLE=14 E. Wood St.:geo:-84.4836459,40.2214831
END:VEVENT
END:VCALENDAR