BEGIN:VCALENDAR
VERSION:2.0
PRODID:-//Catholic Telegraph - ECPv5.2.1.1//NONSGML v1.0//EN
CALSCALE:GREGORIAN
METHOD:PUBLISH
X-WR-CALNAME:Catholic Telegraph
X-ORIGINAL-URL:https://www.thecatholictelegraph.com
X-WR-CALDESC:Events for Catholic Telegraph
BEGIN:VTIMEZONE
TZID:America/New_York
BEGIN:DAYLIGHT
TZOFFSETFROM:-0500
TZOFFSETTO:-0400
TZNAME:EDT
DTSTART:20170312T070000
END:DAYLIGHT
BEGIN:STANDARD
TZOFFSETFROM:-0400
TZOFFSETTO:-0500
TZNAME:EST
DTSTART:20171105T060000
END:STANDARD
END:VTIMEZONE
BEGIN:VEVENT
DTSTART;TZID=America/New_York:20171210T133000
DTEND;TZID=America/New_York:20171210T153000
DTSTAMP:20260421T115110
CREATED:20171129T154037Z
LAST-MODIFIED:20171129T154037Z
UID:47018-1512912600-1512919800@www.thecatholictelegraph.com
SUMMARY:Posadas at IHM (Anderson Twp.)
DESCRIPTION:Celebrate Las Posadas (“Posada” means “inn” or “shelter”)\, a kind of Mexican Christmas pageant that reenacts Mary and Joseph going from inn to inn searching for a place to stay and ends with a party. IHM’s celebration will include a procession with candles\, Christmas carols\, and a reception with hot chocolate and cookies. The procession will begin after 1:30 Mass.
URL:https://www.thecatholictelegraph.com/event/posadas-at-ihm-anderson-twp
LOCATION:Immaculate Heart of Mary (Anderson Twp)\, 7820 Beechmont Ave\, Cincinnati\, OH\, 45255
GEO:39.0732994;-84.3402529
X-APPLE-STRUCTURED-LOCATION;VALUE=URI;X-ADDRESS=Immaculate Heart of Mary (Anderson Twp) 7820 Beechmont Ave Cincinnati OH 45255;X-APPLE-RADIUS=500;X-TITLE=7820 Beechmont Ave:geo:-84.3402529,39.0732994
END:VEVENT
END:VCALENDAR