BEGIN:VCALENDAR
VERSION:2.0
PRODID:-//Catholic Telegraph - ECPv5.2.1.1//NONSGML v1.0//EN
CALSCALE:GREGORIAN
METHOD:PUBLISH
X-WR-CALNAME:Catholic Telegraph
X-ORIGINAL-URL:https://www.thecatholictelegraph.com
X-WR-CALDESC:Events for Catholic Telegraph
BEGIN:VTIMEZONE
TZID:America/New_York
BEGIN:DAYLIGHT
TZOFFSETFROM:-0500
TZOFFSETTO:-0400
TZNAME:EDT
DTSTART:20180311T070000
END:DAYLIGHT
BEGIN:STANDARD
TZOFFSETFROM:-0400
TZOFFSETTO:-0500
TZNAME:EST
DTSTART:20181104T060000
END:STANDARD
END:VTIMEZONE
BEGIN:VEVENT
DTSTART;TZID=America/New_York:20180809T183000
DTEND;TZID=America/New_York:20180809T203000
DTSTAMP:20260419T111453
CREATED:20180329T150226Z
LAST-MODIFIED:20180530T171817Z
UID:50198-1533839400-1533846600@www.thecatholictelegraph.com
SUMMARY:Pregnancy Center West Banquet with Buddy LaRosa
DESCRIPTION:Buddy LaRosa will be the keynote speaker at PCW’s annual Banquet. Come early for 5:30 Mass at St. Antoninus; banquet begins at 6:30 in the St. Antoninus Undercroft. For details contact bill@pc-west.org; register online at the PCW website\, PC-west.org.
URL:https://www.thecatholictelegraph.com/event/pregnancy-center-west-banquet-with-buddy-larosa
LOCATION:St. Antoninus Church\, 1500 Linneman Road\, Cincinnati\, OH\, 45238\, United States
GEO:39.1225436;-84.6244052
X-APPLE-STRUCTURED-LOCATION;VALUE=URI;X-ADDRESS=St. Antoninus Church 1500 Linneman Road Cincinnati OH 45238 United States;X-APPLE-RADIUS=500;X-TITLE=1500 Linneman Road:geo:-84.6244052,39.1225436
END:VEVENT
END:VCALENDAR