BEGIN:VCALENDAR
VERSION:2.0
PRODID:-//Catholic Telegraph - ECPv5.2.1.1//NONSGML v1.0//EN
CALSCALE:GREGORIAN
METHOD:PUBLISH
X-WR-CALNAME:Catholic Telegraph
X-ORIGINAL-URL:https://www.thecatholictelegraph.com
X-WR-CALDESC:Events for Catholic Telegraph
BEGIN:VTIMEZONE
TZID:America/New_York
BEGIN:DAYLIGHT
TZOFFSETFROM:-0500
TZOFFSETTO:-0400
TZNAME:EDT
DTSTART:20170312T070000
END:DAYLIGHT
BEGIN:STANDARD
TZOFFSETFROM:-0400
TZOFFSETTO:-0500
TZNAME:EST
DTSTART:20171105T060000
END:STANDARD
END:VTIMEZONE
BEGIN:VEVENT
DTSTART;TZID=America/New_York:20170430T150000
DTEND;TZID=America/New_York:20170430T170000
DTSTAMP:20260421T104305
CREATED:20170412T131548Z
LAST-MODIFIED:20170412T131548Z
UID:40951-1493564400-1493571600@www.thecatholictelegraph.com
SUMMARY:Pro-Life Educational Fair and Memorial in Springfield
DESCRIPTION:Clark County Right to Life presents a Pro-Life Educational Fair and Memorial for the Unborn. Meet elected officials; enjoy choir singing\, skits\, and music; review literature and presentations from life-affirming organizations and more at this ecumenical\, non-partisan event. Features speakers Pastor Eli Williams (pastor of New Hope Church Springfield and co-founder of Urban Light Ministries) and State Representative Nino Vitale from Ohio’s 85th House District. Light refreshments served.
URL:https://www.thecatholictelegraph.com/event/pro-life-educational-fair-and-memorial-in-springfield
LOCATION:St. John’s Missionary Baptist Church\, 34 W. Pleasant Street\, Springfield\, Ohio\, 45506
GEO:39.9191197;-83.8120243
X-APPLE-STRUCTURED-LOCATION;VALUE=URI;X-ADDRESS=St. John’s Missionary Baptist Church 34 W. Pleasant Street Springfield Ohio 45506;X-APPLE-RADIUS=500;X-TITLE=34 W. Pleasant Street:geo:-83.8120243,39.9191197
END:VEVENT
END:VCALENDAR