BEGIN:VCALENDAR
VERSION:2.0
PRODID:-//Catholic Telegraph - ECPv5.2.1.1//NONSGML v1.0//EN
CALSCALE:GREGORIAN
METHOD:PUBLISH
X-WR-CALNAME:Catholic Telegraph
X-ORIGINAL-URL:https://www.thecatholictelegraph.com
X-WR-CALDESC:Events for Catholic Telegraph
BEGIN:VTIMEZONE
TZID:America/New_York
BEGIN:DAYLIGHT
TZOFFSETFROM:-0500
TZOFFSETTO:-0400
TZNAME:EDT
DTSTART:20230312T070000
END:DAYLIGHT
BEGIN:STANDARD
TZOFFSETFROM:-0400
TZOFFSETTO:-0500
TZNAME:EST
DTSTART:20231105T060000
END:STANDARD
END:VTIMEZONE
BEGIN:VEVENT
DTSTART;TZID=America/New_York:20231105T160000
DTEND;TZID=America/New_York:20231105T200000
DTSTAMP:20260419T080334
CREATED:20231103T131659Z
LAST-MODIFIED:20231103T131659Z
UID:94014-1699200000-1699214400@www.thecatholictelegraph.com
SUMMARY:PRO LIVE TAILGATE before the Bengals Game
DESCRIPTION:Sunday\, November 5\n \nPro-life Tailgate! \nJoin us even if you’re not going to the game! \nCalling all pro-life friends! We have an opportunity to gather in joy for LIFE on Sunday and spread the word to tailgaters about extreme Issue 1! \nFood\, friends\, fun-all for LIFE! 4:00 p.m. \nLongworth Hall Lot 700 Pete Rose Way
URL:https://www.thecatholictelegraph.com/event/pro-live-tailgate-before-the-bengals-game
ATTACH;FMTTYPE=image/jpeg:https://www.thecatholictelegraph.com/wp-content/uploads/2016/01/Paul-Brown-Stadium.jpg
END:VEVENT
END:VCALENDAR