BEGIN:VCALENDAR
VERSION:2.0
PRODID:-//Catholic Telegraph - ECPv5.2.1.1//NONSGML v1.0//EN
CALSCALE:GREGORIAN
METHOD:PUBLISH
X-WR-CALNAME:Catholic Telegraph
X-ORIGINAL-URL:https://www.thecatholictelegraph.com
X-WR-CALDESC:Events for Catholic Telegraph
BEGIN:VTIMEZONE
TZID:America/New_York
BEGIN:DAYLIGHT
TZOFFSETFROM:-0500
TZOFFSETTO:-0400
TZNAME:EDT
DTSTART:20180311T070000
END:DAYLIGHT
BEGIN:STANDARD
TZOFFSETFROM:-0400
TZOFFSETTO:-0500
TZNAME:EST
DTSTART:20181104T060000
END:STANDARD
END:VTIMEZONE
BEGIN:VEVENT
DTSTART;TZID=America/New_York:20180317T083000
DTEND;TZID=America/New_York:20180317T153000
DTSTAMP:20260421T070447
CREATED:20171212T134637Z
LAST-MODIFIED:20171212T134637Z
UID:47378-1521275400-1521300600@www.thecatholictelegraph.com
SUMMARY:Quinceanera Retreat at St. Susanna (Mason)
DESCRIPTION:Girls celebrating their 15th birthday this year are invited to attend this retreat with their mothers. \nEste retiro es para niñas que quieren celebrar sus 15 años y sus Madres. \nTo register: \nCall or email Karla Eysoldt at (513) 448-8994 / keysoldt@catholiccincinnati.org \nor \n\n\n\n\nMary Alice Ordonez at (937) 258-1309 / mordonez@catholiccincinnati.org \n\n\n\n\n  \n\n\n\n\n  \n\n\n\n\n 
URL:https://www.thecatholictelegraph.com/event/quinceanera-retreat-at-st-susanna-mason
LOCATION:St. Susanna Parish\, 616 Reading Rd\, Mason\, OH\, 45040\, United States
GEO:39.3532959;-84.3172069
X-APPLE-STRUCTURED-LOCATION;VALUE=URI;X-ADDRESS=St. Susanna Parish 616 Reading Rd Mason OH 45040 United States;X-APPLE-RADIUS=500;X-TITLE=616 Reading Rd:geo:-84.3172069,39.3532959
END:VEVENT
END:VCALENDAR