BEGIN:VCALENDAR
VERSION:2.0
PRODID:-//Catholic Telegraph - ECPv5.2.1.1//NONSGML v1.0//EN
CALSCALE:GREGORIAN
METHOD:PUBLISH
X-WR-CALNAME:Catholic Telegraph
X-ORIGINAL-URL:https://www.thecatholictelegraph.com
X-WR-CALDESC:Events for Catholic Telegraph
BEGIN:VTIMEZONE
TZID:America/New_York
BEGIN:DAYLIGHT
TZOFFSETFROM:-0500
TZOFFSETTO:-0400
TZNAME:EDT
DTSTART:20170312T070000
END:DAYLIGHT
BEGIN:STANDARD
TZOFFSETFROM:-0400
TZOFFSETTO:-0500
TZNAME:EST
DTSTART:20171105T060000
END:STANDARD
END:VTIMEZONE
BEGIN:VEVENT
DTSTART;TZID=America/New_York:20170623T180000
DTEND;TZID=America/New_York:20170623T233000
DTSTAMP:20260419T075833
CREATED:20170523T180244Z
LAST-MODIFIED:20170523T180301Z
UID:42234-1498240800-1498260600@www.thecatholictelegraph.com
SUMMARY:Rapid Run Festival Begins
DESCRIPTION:June 23-25. Sponsored by St. Aloysius on the Ohio and St. Simon the Apostle Parishes. Live entertainment\, more. \nFor more information see our  Festival Guide: \nThe Catholic Telegraph Festival Guide
URL:https://www.thecatholictelegraph.com/event/rapid-run-festival
LOCATION:St. Simon the Apostle\, 825 Pontius Rd.\, Cincinnati\, Ohio\, 45233
GEO:39.1107879;-84.6637895
X-APPLE-STRUCTURED-LOCATION;VALUE=URI;X-ADDRESS=St. Simon the Apostle 825 Pontius Rd. Cincinnati Ohio 45233;X-APPLE-RADIUS=500;X-TITLE=825 Pontius Rd.:geo:-84.6637895,39.1107879
END:VEVENT
END:VCALENDAR