BEGIN:VCALENDAR
VERSION:2.0
PRODID:-//Catholic Telegraph - ECPv5.2.1.1//NONSGML v1.0//EN
CALSCALE:GREGORIAN
METHOD:PUBLISH
X-WR-CALNAME:Catholic Telegraph
X-ORIGINAL-URL:https://www.thecatholictelegraph.com
X-WR-CALDESC:Events for Catholic Telegraph
BEGIN:VTIMEZONE
TZID:America/New_York
BEGIN:DAYLIGHT
TZOFFSETFROM:-0500
TZOFFSETTO:-0400
TZNAME:EDT
DTSTART:20260308T070000
END:DAYLIGHT
BEGIN:STANDARD
TZOFFSETFROM:-0400
TZOFFSETTO:-0500
TZNAME:EST
DTSTART:20261101T060000
END:STANDARD
END:VTIMEZONE
BEGIN:VEVENT
DTSTART;TZID=America/New_York:20260319T180000
DTEND;TZID=America/New_York:20260319T190000
DTSTAMP:20260421T082852
CREATED:20260303T222213Z
LAST-MODIFIED:20260303T222213Z
UID:105274-1773943200-1773946800@www.thecatholictelegraph.com
SUMMARY:Reconciliation Service at Queen of Martyrs Dayton
DESCRIPTION:Holy Spirit Family of Parishes\nReconciliation Service at Queen of Martyrs\, 4134 Cedar Ridge Rd. (Church)\, Dayton\, OH 45414\nThursday\, March 19\n6:00 p.m.
URL:https://www.thecatholictelegraph.com/event/reconciliation-service-at-queen-of-martyrs-dayton
LOCATION:Queen of Martyrs  (Dayton)\, 4134 Cedar Ridge Rd\, Dayton\, OH\, 45414\, United States
ATTACH;FMTTYPE=image/jpeg:https://www.thecatholictelegraph.com/wp-content/uploads/2025/03/6566431908a8cd67877d919a_6-tips-to-get-over-your-fear-of-confession-2-scaled-1.jpg
END:VEVENT
END:VCALENDAR