BEGIN:VCALENDAR
VERSION:2.0
PRODID:-//Catholic Telegraph - ECPv5.2.1.1//NONSGML v1.0//EN
CALSCALE:GREGORIAN
METHOD:PUBLISH
X-WR-CALNAME:Catholic Telegraph
X-ORIGINAL-URL:https://www.thecatholictelegraph.com
X-WR-CALDESC:Events for Catholic Telegraph
BEGIN:VTIMEZONE
TZID:America/New_York
BEGIN:DAYLIGHT
TZOFFSETFROM:-0500
TZOFFSETTO:-0400
TZNAME:EDT
DTSTART:20170312T070000
END:DAYLIGHT
BEGIN:STANDARD
TZOFFSETFROM:-0400
TZOFFSETTO:-0500
TZNAME:EST
DTSTART:20171105T060000
END:STANDARD
END:VTIMEZONE
BEGIN:VEVENT
DTSTART;TZID=America/New_York:20170813T170000
DTEND;TZID=America/New_York:20170813T170000
DTSTAMP:20260423T040816
CREATED:20170721T185601Z
LAST-MODIFIED:20170721T185601Z
UID:43754-1502643600-1502643600@www.thecatholictelegraph.com
SUMMARY:Recovering from Grief Weekend in Milford Begins
DESCRIPTION:Aug. 11-13. The Jesuit Spiritual Center in Milford and chaplains of The Christ Hospital will offer a weekend retreat for anyone struggling from grief and loss. Cost covers two-night stay and meals. Start time approximate; contact organizer for exact time. For information or to register call (513) 248-3500.
URL:https://www.thecatholictelegraph.com/event/recovering-from-grief-weekend-in-milford-begins
LOCATION:Jesuit Spiritual Center\, 5361 S. Milford Road\, Milford\, OH\, 45150-9746\, United States
GEO:39.1608883;-84.2982265
X-APPLE-STRUCTURED-LOCATION;VALUE=URI;X-ADDRESS=Jesuit Spiritual Center 5361 S. Milford Road Milford OH 45150-9746 United States;X-APPLE-RADIUS=500;X-TITLE=5361 S. Milford Road:geo:-84.2982265,39.1608883
END:VEVENT
END:VCALENDAR