BEGIN:VCALENDAR
VERSION:2.0
PRODID:-//Catholic Telegraph - ECPv5.2.1.1//NONSGML v1.0//EN
CALSCALE:GREGORIAN
METHOD:PUBLISH
X-WR-CALNAME:Catholic Telegraph
X-ORIGINAL-URL:https://www.thecatholictelegraph.com
X-WR-CALDESC:Events for Catholic Telegraph
BEGIN:VTIMEZONE
TZID:America/New_York
BEGIN:DAYLIGHT
TZOFFSETFROM:-0500
TZOFFSETTO:-0400
TZNAME:EDT
DTSTART:20180311T070000
END:DAYLIGHT
BEGIN:STANDARD
TZOFFSETFROM:-0400
TZOFFSETTO:-0500
TZNAME:EST
DTSTART:20181104T060000
END:STANDARD
END:VTIMEZONE
BEGIN:VEVENT
DTSTART;TZID=America/New_York:20180915T100000
DTEND;TZID=America/New_York:20180915T100000
DTSTAMP:20260419T094128
CREATED:20180725T155944Z
LAST-MODIFIED:20180731T181552Z
UID:52979-1537005600-1537005600@www.thecatholictelegraph.com
SUMMARY:Retreat with Michael Brown at Our Lady of the Holy Spirit Center
DESCRIPTION:Author Michale Harold Brown\, a former reporter whose stories on Love Canal gained national attention to the problem of toxic waste in communities around the country\, experienced a dramatic return to his Catholic Faith detailed in his book\, “Prayer of the Warrior.” The author of “The Search for Eve\,” which chronicles the scientific search for the oldest known human DNA\, he has written numerous books about the Catholic faith\, apparitions and miracles\, and the Virgin Mary\, as well as a Christian thriller\, “The Seven.” He appears frequently on radio and television\, and founded the Catholic news website SpiritDaily with his wife\, Lisa. Lunch available with reservation; call (513) 531-6279 for more information.
URL:https://www.thecatholictelegraph.com/event/retreat-with-michael-brown-at-our-lady-of-the-holy-spirit-center
LOCATION:Our Lady of the Holy Spirit Center\, 5440 Moeller Avenue\, Norwood\, OH\, 45212\, United States
GEO:39.1727799;-84.4461511
X-APPLE-STRUCTURED-LOCATION;VALUE=URI;X-ADDRESS=Our Lady of the Holy Spirit Center 5440 Moeller Avenue Norwood OH 45212 United States;X-APPLE-RADIUS=500;X-TITLE=5440 Moeller Avenue:geo:-84.4461511,39.1727799
END:VEVENT
END:VCALENDAR