BEGIN:VCALENDAR
VERSION:2.0
PRODID:-//Catholic Telegraph - ECPv5.2.1.1//NONSGML v1.0//EN
CALSCALE:GREGORIAN
METHOD:PUBLISH
X-WR-CALNAME:Catholic Telegraph
X-ORIGINAL-URL:https://www.thecatholictelegraph.com
X-WR-CALDESC:Events for Catholic Telegraph
BEGIN:VTIMEZONE
TZID:America/New_York
BEGIN:DAYLIGHT
TZOFFSETFROM:-0500
TZOFFSETTO:-0400
TZNAME:EDT
DTSTART:20170312T070000
END:DAYLIGHT
BEGIN:STANDARD
TZOFFSETFROM:-0400
TZOFFSETTO:-0500
TZNAME:EST
DTSTART:20171105T060000
END:STANDARD
END:VTIMEZONE
BEGIN:VEVENT
DTSTART;TZID=America/New_York:20170225T130000
DTEND;TZID=America/New_York:20170225T160000
DTSTAMP:20260425T203451
CREATED:20170212T180903Z
LAST-MODIFIED:20170212T180903Z
UID:39051-1488027600-1488038400@www.thecatholictelegraph.com
SUMMARY:"Rock a Thon" for Little Sisters of the Poor
DESCRIPTION:The Little Sisters of the Poor of Cincinnati need rockers for their three-hour fundraising “rock-a-thon”– residents of the Archbishop Leibold St. Paul’s Home and friends will rock on rocking chairs for one to three hours in return for sponsorship. Volunteer to rock\, come to support the rockers\, or pledge to support a rocker for an hour or more of rocking. Teams of three allowed! Entertainmenmt\, mystery balloons\, food\, and more. No cost for event entry; to sign up to rock or or support a rocker\, see the event flyer.
URL:https://www.thecatholictelegraph.com/event/rock-a-thon-for-little-sisters-of-the-poor
LOCATION:St. Paul’s Home\, 476 Riddle Road\, Cincinnati\, 45220
GEO:39.136617;-84.524027
X-APPLE-STRUCTURED-LOCATION;VALUE=URI;X-ADDRESS=St. Paul’s Home 476 Riddle Road Cincinnati 45220;X-APPLE-RADIUS=500;X-TITLE=476 Riddle Road:geo:-84.524027,39.136617
END:VEVENT
END:VCALENDAR