BEGIN:VCALENDAR
VERSION:2.0
PRODID:-//Catholic Telegraph - ECPv5.2.1.1//NONSGML v1.0//EN
CALSCALE:GREGORIAN
METHOD:PUBLISH
X-WR-CALNAME:Catholic Telegraph
X-ORIGINAL-URL:https://www.thecatholictelegraph.com
X-WR-CALDESC:Events for Catholic Telegraph
BEGIN:VTIMEZONE
TZID:America/New_York
BEGIN:DAYLIGHT
TZOFFSETFROM:-0500
TZOFFSETTO:-0400
TZNAME:EDT
DTSTART:20180311T070000
END:DAYLIGHT
BEGIN:STANDARD
TZOFFSETFROM:-0400
TZOFFSETTO:-0500
TZNAME:EST
DTSTART:20181104T060000
END:STANDARD
END:VTIMEZONE
BEGIN:VEVENT
DTSTART;TZID=America/New_York:20181007T150000
DTEND;TZID=America/New_York:20181007T163000
DTSTAMP:20260419T144200
CREATED:20180924T181343Z
LAST-MODIFIED:20180924T181343Z
UID:54101-1538924400-1538929800@www.thecatholictelegraph.com
SUMMARY:Rosary Coast to Coast at St. Michael Fort Loramie
DESCRIPTION:What: A world-wide event where people gather to pray the rosary for their country\nWhen: Sunday\, October 7\, 2018 at 3:00 p.m. until 4:30 p.m.\nWhere: St. Michael Parish\, 33 Elm St.\, Fort Loramie 45845\nDetails: A rosary will be said every half hour\, and Fr. Steve will hear confessions during this time.
URL:https://www.thecatholictelegraph.com/event/rosary-coast-to-coast-at-st-michael-fort-loramie
LOCATION:St. Michael Church\, Ft. Loramie\, 33 Elm Street\, Ft. Loramie\, OH\, 45845\, United States
GEO:40.3511954;-84.3716569
X-APPLE-STRUCTURED-LOCATION;VALUE=URI;X-ADDRESS=St. Michael Church Ft. Loramie 33 Elm Street Ft. Loramie OH 45845 United States;X-APPLE-RADIUS=500;X-TITLE=33 Elm Street:geo:-84.3716569,40.3511954
END:VEVENT
END:VCALENDAR