BEGIN:VCALENDAR
VERSION:2.0
PRODID:-//Catholic Telegraph - ECPv5.2.1.1//NONSGML v1.0//EN
CALSCALE:GREGORIAN
METHOD:PUBLISH
X-WR-CALNAME:Catholic Telegraph
X-ORIGINAL-URL:https://www.thecatholictelegraph.com
X-WR-CALDESC:Events for Catholic Telegraph
BEGIN:VTIMEZONE
TZID:America/New_York
BEGIN:DAYLIGHT
TZOFFSETFROM:-0500
TZOFFSETTO:-0400
TZNAME:EDT
DTSTART:20260308T070000
END:DAYLIGHT
BEGIN:STANDARD
TZOFFSETFROM:-0400
TZOFFSETTO:-0500
TZNAME:EST
DTSTART:20261101T060000
END:STANDARD
END:VTIMEZONE
BEGIN:VEVENT
DTSTART;TZID=America/New_York:20260816T150000
DTEND;TZID=America/New_York:20260816T210000
DTSTAMP:20260421T222552
CREATED:20260421T200740Z
LAST-MODIFIED:20260421T200740Z
UID:106857-1786892400-1786914000@www.thecatholictelegraph.com
SUMMARY:Sacred Heart Festival Fairfield
DESCRIPTION:Sacred Heart Fairfield\nImmaculate Heart of Mary Family of Parishes\nFriday\, August 14\, 6:00pm-Midnight\nSaturday\, August 15\, 5:00pm-Midnight\nSunday\, August 16\, 3:00pm-9:00pm\n400 Nilles Road\, Fairfield\, Ohio 45014\n(513) 858-4210\nSacred Heart Festival
URL:https://www.thecatholictelegraph.com/event/sacred-heart-festival-fairfield/2026-08-16
LOCATION:Sacred Heart Church (Fairfield)\, 400 Nilles Road\, Fairfield\, Ohio\, 45014
ATTACH;FMTTYPE=image/jpeg:https://www.thecatholictelegraph.com/wp-content/uploads/2017/06/DSC_0743.jpg
GEO:39.3379981;-84.5659888
X-APPLE-STRUCTURED-LOCATION;VALUE=URI;X-ADDRESS=Sacred Heart Church (Fairfield) 400 Nilles Road Fairfield Ohio 45014;X-APPLE-RADIUS=500;X-TITLE=400 Nilles Road:geo:-84.5659888,39.3379981
END:VEVENT
END:VCALENDAR