BEGIN:VCALENDAR
VERSION:2.0
PRODID:-//Catholic Telegraph - ECPv5.2.1.1//NONSGML v1.0//EN
CALSCALE:GREGORIAN
METHOD:PUBLISH
X-WR-CALNAME:Catholic Telegraph
X-ORIGINAL-URL:https://www.thecatholictelegraph.com
X-WR-CALDESC:Events for Catholic Telegraph
BEGIN:VTIMEZONE
TZID:America/New_York
BEGIN:DAYLIGHT
TZOFFSETFROM:-0500
TZOFFSETTO:-0400
TZNAME:EDT
DTSTART:20260308T070000
END:DAYLIGHT
BEGIN:STANDARD
TZOFFSETFROM:-0400
TZOFFSETTO:-0500
TZNAME:EST
DTSTART:20261101T060000
END:STANDARD
END:VTIMEZONE
BEGIN:VEVENT
DTSTART;TZID=America/New_York:20260318T120000
DTEND;TZID=America/New_York:20260318T130000
DTSTAMP:20260422T004615
CREATED:20260301T151901Z
LAST-MODIFIED:20260301T151901Z
UID:105156-1773835200-1773838800@www.thecatholictelegraph.com
SUMMARY:Sacred Topics in Religious Art at St. Francis Xavier Church Downtown
DESCRIPTION:Sacred Topics in Religious Art\nThe path from Pontius Pilate’s house to Calvary is called The Way of the Cross or the Stations of the Cross. The tradition of praying with images of the fourteen Stations has been in practice for hundreds of years. Join us this Lent as we discover the beautiful and diverse ways artists have rendered these poignant moments on Christ’s walk to Calvary. Please join Dr. Cecelia Dorger in the Parish Center for Midday Masterpieces: Sacred Topics in Religious Art on Wednesday\, March 18 and March 25 at 12 PM immediately following 11:30 Mass
URL:https://www.thecatholictelegraph.com/event/sacred-topics-in-religious-art-at-st-francis-xavier-church-downtown
LOCATION:St. Francis Xavier Church\, 611 Sycamore Street\, Cincinnati\, Ohio\, 45202
ATTACH;FMTTYPE=image/png:https://www.thecatholictelegraph.com/wp-content/uploads/2026/02/StPetersStations7022426_lbykns.avif.png
GEO:39.1035763;-84.5090562
X-APPLE-STRUCTURED-LOCATION;VALUE=URI;X-ADDRESS=St. Francis Xavier Church 611 Sycamore Street Cincinnati Ohio 45202;X-APPLE-RADIUS=500;X-TITLE=611 Sycamore Street:geo:-84.5090562,39.1035763
END:VEVENT
END:VCALENDAR