BEGIN:VCALENDAR
VERSION:2.0
PRODID:-//Catholic Telegraph - ECPv5.2.1.1//NONSGML v1.0//EN
CALSCALE:GREGORIAN
METHOD:PUBLISH
X-WR-CALNAME:Catholic Telegraph
X-ORIGINAL-URL:https://www.thecatholictelegraph.com
X-WR-CALDESC:Events for Catholic Telegraph
BEGIN:VTIMEZONE
TZID:America/New_York
BEGIN:DAYLIGHT
TZOFFSETFROM:-0500
TZOFFSETTO:-0400
TZNAME:EDT
DTSTART:20170312T070000
END:DAYLIGHT
BEGIN:STANDARD
TZOFFSETFROM:-0400
TZOFFSETTO:-0500
TZNAME:EST
DTSTART:20171105T060000
END:STANDARD
END:VTIMEZONE
BEGIN:VEVENT
DTSTART;TZID=America/New_York:20170819T100000
DTEND;TZID=America/New_York:20170819T120000
DTSTAMP:20260425T225655
CREATED:20170626T195841Z
LAST-MODIFIED:20170626T195841Z
UID:43224-1503136800-1503144000@www.thecatholictelegraph.com
SUMMARY:Scott Hahn Talk at the Our Lady of Fatima Shrine\, Indian Lake
DESCRIPTION:Dr. Scott Hahn will present “Fatima and the Holy Family” at the Shrine of Our Lady of Fatima on the shore of Indian Lake.  Book signing follows. An outdoor event limited to 250 people. Purchase tickets at St. Mary of the Woods Church in Russels Ppoint (stmaryofthewoods.com). Children’s tickets are free but must be reserved. Park at the church; free shuttle to the shrine. NO TICKETS AT THE DOOR.
URL:https://www.thecatholictelegraph.com/event/scott-hahn-talk-at-the-our-lady-of-fatima-shrine-indian-lake
LOCATION:Our Lady of Fatima Shrine (Russels Point)\, 261 Chase Ave.\, Russel's Point\, Ohio\, 43348
GEO:40.4743878;-83.8936031
X-APPLE-STRUCTURED-LOCATION;VALUE=URI;X-ADDRESS=Our Lady of Fatima Shrine (Russels Point) 261 Chase Ave. Russel's Point Ohio 43348;X-APPLE-RADIUS=500;X-TITLE=261 Chase Ave.:geo:-83.8936031,40.4743878
END:VEVENT
END:VCALENDAR