BEGIN:VCALENDAR
VERSION:2.0
PRODID:-//Catholic Telegraph - ECPv5.2.1.1//NONSGML v1.0//EN
CALSCALE:GREGORIAN
METHOD:PUBLISH
X-WR-CALNAME:Catholic Telegraph
X-ORIGINAL-URL:https://www.thecatholictelegraph.com
X-WR-CALDESC:Events for Catholic Telegraph
BEGIN:VTIMEZONE
TZID:America/New_York
BEGIN:DAYLIGHT
TZOFFSETFROM:-0500
TZOFFSETTO:-0400
TZNAME:EDT
DTSTART:20170312T070000
END:DAYLIGHT
BEGIN:STANDARD
TZOFFSETFROM:-0400
TZOFFSETTO:-0500
TZNAME:EST
DTSTART:20171105T060000
END:STANDARD
END:VTIMEZONE
BEGIN:VEVENT
DTSTART;TZID=America/New_York:20170720T183000
DTEND;TZID=America/New_York:20170720T193000
DTSTAMP:20260420T160835
CREATED:20170531T155445Z
LAST-MODIFIED:20170531T155445Z
UID:42431-1500575400-1500579000@www.thecatholictelegraph.com
SUMMARY:SportsLeader Football Rosary Rally at Mount St. Mary's Seminary of the West
DESCRIPTION:SportsLeader will hold its annual rosary rally for high school (and other) football teams in the field outside Cincinnati’s Seminary. Teams should wear their jerseys. A priest will bring the Blessed Sacrament and lead a decade of the rosary as sports rivals come together to begin the football season in prayer. Start time is 6:45\, NOT 6:30 (the calendar software allows only half hour increments).
URL:https://www.thecatholictelegraph.com/event/sportsleader-football-rosary-rally-at-mount-st-marys-seminary-of-the-west
LOCATION:Athenaeum of Ohio\, 6616 Beechmont Avenue\, Cincinnat\, OH\, 45230\, United States
GEO:39.083756;-84.3729539
X-APPLE-STRUCTURED-LOCATION;VALUE=URI;X-ADDRESS=Athenaeum of Ohio 6616 Beechmont Avenue Cincinnat OH 45230 United States;X-APPLE-RADIUS=500;X-TITLE=6616 Beechmont Avenue:geo:-84.3729539,39.083756
END:VEVENT
END:VCALENDAR