BEGIN:VCALENDAR
VERSION:2.0
PRODID:-//Catholic Telegraph - ECPv5.2.1.1//NONSGML v1.0//EN
CALSCALE:GREGORIAN
METHOD:PUBLISH
X-WR-CALNAME:Catholic Telegraph
X-ORIGINAL-URL:https://www.thecatholictelegraph.com
X-WR-CALDESC:Events for Catholic Telegraph
BEGIN:VTIMEZONE
TZID:America/New_York
BEGIN:DAYLIGHT
TZOFFSETFROM:-0500
TZOFFSETTO:-0400
TZNAME:EDT
DTSTART:20170312T070000
END:DAYLIGHT
BEGIN:STANDARD
TZOFFSETFROM:-0400
TZOFFSETTO:-0500
TZNAME:EST
DTSTART:20171105T060000
END:STANDARD
END:VTIMEZONE
BEGIN:VEVENT
DTSTART;TZID=America/New_York:20170409T123000
DTEND;TZID=America/New_York:20170409T153000
DTSTAMP:20260419T100032
CREATED:20170227T193211Z
LAST-MODIFIED:20170227T193211Z
UID:39523-1491741000-1491751800@www.thecatholictelegraph.com
SUMMARY:Spring Health Fair in Price Hill
DESCRIPTION:Santa Maria Community Services invites all to free health screenings\, refreshments\, and more. Screenings available for blood pressure\, depression\, glucose\, STDs\, BMI level\, pregnancy\, dental and vision problems\, hearing\, and more. Children can experience the Kid’s Health Zone for fun activities. Bring the family.
URL:https://www.thecatholictelegraph.com/event/spring-health-fair-in-price-hill
LOCATION:Price Hll Recration Center\, 959 Hawthorne Ave\,.\, Cincinnati\, 45205
GEO:39.1092388;-84.5625329
X-APPLE-STRUCTURED-LOCATION;VALUE=URI;X-ADDRESS=Price Hll Recration Center 959 Hawthorne Ave. Cincinnati 45205;X-APPLE-RADIUS=500;X-TITLE=959 Hawthorne Ave\,.:geo:-84.5625329,39.1092388
END:VEVENT
END:VCALENDAR