BEGIN:VCALENDAR
VERSION:2.0
PRODID:-//Catholic Telegraph - ECPv5.2.1.1//NONSGML v1.0//EN
CALSCALE:GREGORIAN
METHOD:PUBLISH
X-WR-CALNAME:Catholic Telegraph
X-ORIGINAL-URL:https://www.thecatholictelegraph.com
X-WR-CALDESC:Events for Catholic Telegraph
BEGIN:VTIMEZONE
TZID:America/New_York
BEGIN:DAYLIGHT
TZOFFSETFROM:-0500
TZOFFSETTO:-0400
TZNAME:EDT
DTSTART:20170312T070000
END:DAYLIGHT
BEGIN:STANDARD
TZOFFSETFROM:-0400
TZOFFSETTO:-0500
TZNAME:EST
DTSTART:20171105T060000
END:STANDARD
END:VTIMEZONE
BEGIN:VEVENT
DTSTART;TZID=America/New_York:20170923T180000
DTEND;TZID=America/New_York:20170923T233000
DTSTAMP:20260422T082325
CREATED:20170831T133614Z
LAST-MODIFIED:20170831T133614Z
UID:44741-1506189600-1506209400@www.thecatholictelegraph.com
SUMMARY:St. Ann Oktoberfest (Hamilton)
DESCRIPTION:One Day only! Kids Rootbeer Garden\, Authetnic German food\, german and domestic bier in the Biergarten \nFor more see our Festival Guide: http://www.thecatholictelegraph.com/festivals
URL:https://www.thecatholictelegraph.com/event/st-ann-oktoberfest-hamilton
LOCATION:St. Ann Church (Hamilton)\, 646 Clinton Avenue\, Hamilton\, OH\, 45015\, United States
GEO:39.3664609;-84.5564264
X-APPLE-STRUCTURED-LOCATION;VALUE=URI;X-ADDRESS=St. Ann Church (Hamilton) 646 Clinton Avenue Hamilton OH 45015 United States;X-APPLE-RADIUS=500;X-TITLE=646 Clinton Avenue:geo:-84.5564264,39.3664609
END:VEVENT
END:VCALENDAR