BEGIN:VCALENDAR
VERSION:2.0
PRODID:-//Catholic Telegraph - ECPv5.2.1.1//NONSGML v1.0//EN
CALSCALE:GREGORIAN
METHOD:PUBLISH
X-WR-CALNAME:Catholic Telegraph
X-ORIGINAL-URL:https://www.thecatholictelegraph.com
X-WR-CALDESC:Events for Catholic Telegraph
BEGIN:VTIMEZONE
TZID:America/New_York
BEGIN:DAYLIGHT
TZOFFSETFROM:-0500
TZOFFSETTO:-0400
TZNAME:EDT
DTSTART:20260308T070000
END:DAYLIGHT
BEGIN:STANDARD
TZOFFSETFROM:-0400
TZOFFSETTO:-0500
TZNAME:EST
DTSTART:20261101T060000
END:STANDARD
END:VTIMEZONE
BEGIN:VEVENT
DTSTART;TZID=America/New_York:20260807T180000
DTEND;TZID=America/New_York:20260807T230000
DTSTAMP:20260421T222431
CREATED:20260421T192610Z
LAST-MODIFIED:20260421T193033Z
UID:106842-1786125600-1786143600@www.thecatholictelegraph.com
SUMMARY:St. Bernadette Festival Amelia
DESCRIPTION:St. Bernadette Festival Amelia\nStella Maris Family of Parishes\nFriday\, August 7\, 6:00 p.m. – 11:00 p.m.\nSaturday\, August 8\, 6:00 p.m. – 11:00 p.m.\n1479 Locust Lake Road\, Amelia\, 45102\n513-753-5566
URL:https://www.thecatholictelegraph.com/event/st-bernadette-festival-amelia
LOCATION:St. Bernadette (Amelia)\, 1479 Locust Lake Rd\, Amelia\, Ohio\, 45102
ATTACH;FMTTYPE=image/jpeg:https://www.thecatholictelegraph.com/wp-content/uploads/2017/06/DSC_0775.jpg
GEO:39.0279699;-84.2267123
X-APPLE-STRUCTURED-LOCATION;VALUE=URI;X-ADDRESS=St. Bernadette (Amelia) 1479 Locust Lake Rd Amelia Ohio 45102;X-APPLE-RADIUS=500;X-TITLE=1479 Locust Lake Rd:geo:-84.2267123,39.0279699
END:VEVENT
END:VCALENDAR