BEGIN:VCALENDAR
VERSION:2.0
PRODID:-//Catholic Telegraph - ECPv5.2.1.1//NONSGML v1.0//EN
CALSCALE:GREGORIAN
METHOD:PUBLISH
X-WR-CALNAME:Catholic Telegraph
X-ORIGINAL-URL:https://www.thecatholictelegraph.com
X-WR-CALDESC:Events for Catholic Telegraph
BEGIN:VTIMEZONE
TZID:America/New_York
BEGIN:DAYLIGHT
TZOFFSETFROM:-0500
TZOFFSETTO:-0400
TZNAME:EDT
DTSTART:20180311T070000
END:DAYLIGHT
BEGIN:STANDARD
TZOFFSETFROM:-0400
TZOFFSETTO:-0500
TZNAME:EST
DTSTART:20181104T060000
END:STANDARD
END:VTIMEZONE
BEGIN:VEVENT
DTSTART;TZID=America/New_York:20180929T170000
DTEND;TZID=America/New_York:20180929T230000
DTSTAMP:20260420T182751
CREATED:20180820T204137Z
LAST-MODIFIED:20180820T204137Z
UID:53364-1538240400-1538262000@www.thecatholictelegraph.com
SUMMARY:St. Cecilia Oktoberfest (Oakley)
DESCRIPTION:Games\, German Music & Dancing\, and more!! Adults only (21 and up) after 8 pm. \nFor links\, times\, maps\, and more\, click here for The Catholic Telegraph’s 2018 online Festival Guide.
URL:https://www.thecatholictelegraph.com/event/st-cecilia-oktoberfest-oakley
LOCATION:St. Cecilia Parish\, Oakley\, 3105 Madison Rd\, Cincinnati\, OH\, 45209-1392\, United States
GEO:39.1527155;-84.4298934
X-APPLE-STRUCTURED-LOCATION;VALUE=URI;X-ADDRESS=St. Cecilia Parish Oakley 3105 Madison Rd Cincinnati OH 45209-1392 United States;X-APPLE-RADIUS=500;X-TITLE=3105 Madison Rd:geo:-84.4298934,39.1527155
END:VEVENT
END:VCALENDAR