BEGIN:VCALENDAR
VERSION:2.0
PRODID:-//Catholic Telegraph - ECPv5.2.1.1//NONSGML v1.0//EN
CALSCALE:GREGORIAN
METHOD:PUBLISH
X-WR-CALNAME:Catholic Telegraph
X-ORIGINAL-URL:https://www.thecatholictelegraph.com
X-WR-CALDESC:Events for Catholic Telegraph
BEGIN:VTIMEZONE
TZID:America/New_York
BEGIN:DAYLIGHT
TZOFFSETFROM:-0500
TZOFFSETTO:-0400
TZNAME:EDT
DTSTART:20240310T070000
END:DAYLIGHT
BEGIN:STANDARD
TZOFFSETFROM:-0400
TZOFFSETTO:-0500
TZNAME:EST
DTSTART:20241103T060000
END:STANDARD
END:VTIMEZONE
BEGIN:VEVENT
DTSTART;TZID=America/New_York:20240224T200000
DTEND;TZID=America/New_York:20240224T233000
DTSTAMP:20260420T231556
CREATED:20240221T174134Z
LAST-MODIFIED:20240221T190703Z
UID:95142-1708804800-1708817400@www.thecatholictelegraph.com
SUMMARY:St Dominic Las Vegas Night
DESCRIPTION:
URL:https://www.thecatholictelegraph.com/event/st-dominic-las-vegas-night
LOCATION:St. Dominic Church\, 4551 Delhi Pike\, Cincinnati\, OH\, 45238-5498\, United States
ATTACH;FMTTYPE=image/jpeg:https://www.thecatholictelegraph.com/wp-content/uploads/2024/02/ShutterstockBasic_225899329-scaled.jpg
GEO:39.0938905;-84.6004631
X-APPLE-STRUCTURED-LOCATION;VALUE=URI;X-ADDRESS=St. Dominic Church 4551 Delhi Pike Cincinnati OH 45238-5498 United States;X-APPLE-RADIUS=500;X-TITLE=4551 Delhi Pike:geo:-84.6004631,39.0938905
END:VEVENT
END:VCALENDAR