BEGIN:VCALENDAR
VERSION:2.0
PRODID:-//Catholic Telegraph - ECPv5.2.1.1//NONSGML v1.0//EN
CALSCALE:GREGORIAN
METHOD:PUBLISH
X-WR-CALNAME:Catholic Telegraph
X-ORIGINAL-URL:https://www.thecatholictelegraph.com
X-WR-CALDESC:Events for Catholic Telegraph
BEGIN:VTIMEZONE
TZID:America/New_York
BEGIN:DAYLIGHT
TZOFFSETFROM:-0500
TZOFFSETTO:-0400
TZNAME:EDT
DTSTART:20170312T070000
END:DAYLIGHT
BEGIN:STANDARD
TZOFFSETFROM:-0400
TZOFFSETTO:-0500
TZNAME:EST
DTSTART:20171105T060000
END:STANDARD
END:VTIMEZONE
BEGIN:VEVENT
DTSTART;TZID=America/New_York:20170808T113000
DTEND;TZID=America/New_York:20170808T130000
DTSTAMP:20260425T082711
CREATED:20170711T130348Z
LAST-MODIFIED:20170711T130348Z
UID:43537-1502191800-1502197200@www.thecatholictelegraph.com
SUMMARY:St. Dominic Mass for Men at St. Gertrude Priory
DESCRIPTION:Men discerning a vocation to the Dominicans are welcome to a St. Dominic Mass with the priory’s friars\, and to speak to the Dominican Vocations Director. Contact him at (202) 642-3597 or vocations@dominicans.org for details.
URL:https://www.thecatholictelegraph.com/event/st-dominic-mass-for-men-at-st-gertrude-priory
LOCATION:St. Gertrude Church\, 6543 Miami Ave\, Cincinnati\, OH\, 45243\, United States
GEO:39.1814629;-84.3654076
X-APPLE-STRUCTURED-LOCATION;VALUE=URI;X-ADDRESS=St. Gertrude Church 6543 Miami Ave Cincinnati OH 45243 United States;X-APPLE-RADIUS=500;X-TITLE=6543 Miami Ave:geo:-84.3654076,39.1814629
END:VEVENT
END:VCALENDAR