BEGIN:VCALENDAR
VERSION:2.0
PRODID:-//Catholic Telegraph - ECPv5.2.1.1//NONSGML v1.0//EN
CALSCALE:GREGORIAN
METHOD:PUBLISH
X-WR-CALNAME:Catholic Telegraph
X-ORIGINAL-URL:https://www.thecatholictelegraph.com
X-WR-CALDESC:Events for Catholic Telegraph
BEGIN:VTIMEZONE
TZID:America/New_York
BEGIN:DAYLIGHT
TZOFFSETFROM:-0500
TZOFFSETTO:-0400
TZNAME:EDT
DTSTART:20260308T070000
END:DAYLIGHT
BEGIN:STANDARD
TZOFFSETFROM:-0400
TZOFFSETTO:-0500
TZNAME:EST
DTSTART:20261101T060000
END:STANDARD
END:VTIMEZONE
BEGIN:VEVENT
DTSTART;TZID=America/New_York:20260724T180000
DTEND;TZID=America/New_York:20260724T230000
DTSTAMP:20260419T092450
CREATED:20260416T182624Z
LAST-MODIFIED:20260416T182624Z
UID:106778-1784916000-1784934000@www.thecatholictelegraph.com
SUMMARY:St James Festival White Oak
DESCRIPTION:St. James the Greater Family Festival White Oak\nMary Queen of Heaven Family of Parishes\nFriday\, July 24\, 6:00 p.m.-11:00 p.m.\nSaturday\, July 25\, 5:30 p.m.-11:00 p.m.\nSunday\, July 20\, 3:00 p.m.-9:00 p.m.\n3565 Hubble Rd.\, Cincinnati\, 45247\n513-741-5300\nwww.stjamesfestival.com \nCelebrating the Feast Day of St. James the Greater on July 25!
URL:https://www.thecatholictelegraph.com/event/st-james-festival-white-oak
LOCATION:St. James the Greater (White Oak)\, 3565 Hubble Road\, Cincinnati\, Ohio\, 45247
ATTACH;FMTTYPE=image/jpeg:https://www.thecatholictelegraph.com/wp-content/uploads/2018/06/DSC_0452aa.jpg
GEO:39.2036225;-84.6004336
X-APPLE-STRUCTURED-LOCATION;VALUE=URI;X-ADDRESS=St. James the Greater (White Oak) 3565 Hubble Road Cincinnati Ohio 45247;X-APPLE-RADIUS=500;X-TITLE=3565 Hubble Road:geo:-84.6004336,39.2036225
END:VEVENT
END:VCALENDAR