BEGIN:VCALENDAR
VERSION:2.0
PRODID:-//Catholic Telegraph - ECPv5.2.1.1//NONSGML v1.0//EN
CALSCALE:GREGORIAN
METHOD:PUBLISH
X-WR-CALNAME:Catholic Telegraph
X-ORIGINAL-URL:https://www.thecatholictelegraph.com
X-WR-CALDESC:Events for Catholic Telegraph
BEGIN:VTIMEZONE
TZID:America/New_York
BEGIN:DAYLIGHT
TZOFFSETFROM:-0500
TZOFFSETTO:-0400
TZNAME:EDT
DTSTART:20180311T070000
END:DAYLIGHT
BEGIN:STANDARD
TZOFFSETFROM:-0400
TZOFFSETTO:-0500
TZNAME:EST
DTSTART:20181104T060000
END:STANDARD
END:VTIMEZONE
BEGIN:VEVENT
DTSTART;TZID=America/New_York:20180713T170000
DTEND;TZID=America/New_York:20180713T230000
DTSTAMP:20260420T060738
CREATED:20180620T195523Z
LAST-MODIFIED:20180620T195523Z
UID:52121-1531501200-1531522800@www.thecatholictelegraph.com
SUMMARY:St. John the Baptist Family Fun Fest Begins (Tipp City)
DESCRIPTION:July 13-15. Live Entertainment\, Children’s Sunday Fun Day\, Amusement Rides\, Games\, Bingo and much more. \nFor links\, times\, maps\, and more\, click here for The Catholic Telegraph’s 2018 online Festival Guide.
URL:https://www.thecatholictelegraph.com/event/st-john-the-baptist-family-fun-fest-begins-tipp-city
LOCATION:St. John the Baptist (Tipp City)\, 753 South Hyatt Street\, Tipp City\, Ohio\, 45371
GEO:39.9510342;-84.175844
X-APPLE-STRUCTURED-LOCATION;VALUE=URI;X-ADDRESS=St. John the Baptist (Tipp City) 753 South Hyatt Street Tipp City Ohio 45371;X-APPLE-RADIUS=500;X-TITLE=753 South Hyatt Street:geo:-84.175844,39.9510342
END:VEVENT
END:VCALENDAR