BEGIN:VCALENDAR
VERSION:2.0
PRODID:-//Catholic Telegraph - ECPv5.2.1.1//NONSGML v1.0//EN
CALSCALE:GREGORIAN
METHOD:PUBLISH
X-WR-CALNAME:Catholic Telegraph
X-ORIGINAL-URL:https://www.thecatholictelegraph.com
X-WR-CALDESC:Events for Catholic Telegraph
BEGIN:VTIMEZONE
TZID:America/New_York
BEGIN:DAYLIGHT
TZOFFSETFROM:-0500
TZOFFSETTO:-0400
TZNAME:EDT
DTSTART:20260308T070000
END:DAYLIGHT
BEGIN:STANDARD
TZOFFSETFROM:-0400
TZOFFSETTO:-0500
TZNAME:EST
DTSTART:20261101T060000
END:STANDARD
END:VTIMEZONE
BEGIN:VEVENT
DTSTART;TZID=America/New_York:20260802T160000
DTEND;TZID=America/New_York:20260802T210000
DTSTAMP:20260421T120424
CREATED:20260420T202921Z
LAST-MODIFIED:20260420T202921Z
UID:106821-1785686400-1785704400@www.thecatholictelegraph.com
SUMMARY:St. John the Baptist Festival Dry Ridge
DESCRIPTION:St. John the Baptist Dry Ridge\nBlessed Trinity Family of Parishes\nFriday\, July 31\, 6:00 p.m.-Midnight\nSaturday\, August 1\, 4:30 p.m.-Midnight\nSunday\, August 2\, 4 p.m.-9:00 p.m.\n5361 Dry Ridge Rd\, Cincinnati\, OH 45252\nwww.theblessedtrinityfamily.org
URL:https://www.thecatholictelegraph.com/event/st-john-the-baptist-festival-dry-ridge/2026-08-02
LOCATION:St. John the Baptist (Dry Ridge)\, 5361 Dry Ridge Road\, Cincinnati\, Ohio\, 45252
ATTACH;FMTTYPE=image/jpeg:https://www.thecatholictelegraph.com/wp-content/uploads/2017/06/DSC_0934.jpg
GEO:39.2601615;-84.6201384
X-APPLE-STRUCTURED-LOCATION;VALUE=URI;X-ADDRESS=St. John the Baptist (Dry Ridge) 5361 Dry Ridge Road Cincinnati Ohio 45252;X-APPLE-RADIUS=500;X-TITLE=5361 Dry Ridge Road:geo:-84.6201384,39.2601615
END:VEVENT
END:VCALENDAR