BEGIN:VCALENDAR
VERSION:2.0
PRODID:-//Catholic Telegraph - ECPv5.2.1.1//NONSGML v1.0//EN
CALSCALE:GREGORIAN
METHOD:PUBLISH
X-WR-CALNAME:Catholic Telegraph
X-ORIGINAL-URL:https://www.thecatholictelegraph.com
X-WR-CALDESC:Events for Catholic Telegraph
BEGIN:VTIMEZONE
TZID:America/New_York
BEGIN:DAYLIGHT
TZOFFSETFROM:-0500
TZOFFSETTO:-0400
TZNAME:EDT
DTSTART:20170312T070000
END:DAYLIGHT
BEGIN:STANDARD
TZOFFSETFROM:-0400
TZOFFSETTO:-0500
TZNAME:EST
DTSTART:20171105T060000
END:STANDARD
END:VTIMEZONE
BEGIN:VEVENT
DTSTART;TZID=America/New_York:20170623T183000
DTEND;TZID=America/New_York:20170623T233000
DTSTAMP:20260424T162556
CREATED:20170523T180650Z
LAST-MODIFIED:20170523T180650Z
UID:42242-1498242600-1498260600@www.thecatholictelegraph.com
SUMMARY:St. John the Baptist Festival (Harrison) Begins
DESCRIPTION:June 23-25. Fried chicken dinner Sunday! \nFor more information see our Festival Guide: \nThe Catholic Telegraph Festival Guide
URL:https://www.thecatholictelegraph.com/event/st-john-the-baptist-festival-harrison-begins
LOCATION:St. John the Baptist\, Harrison\, 509 Harrison Ave\, Harrison\, OH\, 45030-1299\, United States
GEO:39.2627787;-84.814011
X-APPLE-STRUCTURED-LOCATION;VALUE=URI;X-ADDRESS=St. John the Baptist Harrison 509 Harrison Ave Harrison OH 45030-1299 United States;X-APPLE-RADIUS=500;X-TITLE=509 Harrison Ave:geo:-84.814011,39.2627787
END:VEVENT
END:VCALENDAR