BEGIN:VCALENDAR
VERSION:2.0
PRODID:-//Catholic Telegraph - ECPv5.2.1.1//NONSGML v1.0//EN
CALSCALE:GREGORIAN
METHOD:PUBLISH
X-WR-CALNAME:Catholic Telegraph
X-ORIGINAL-URL:https://www.thecatholictelegraph.com
X-WR-CALDESC:Events for Catholic Telegraph
BEGIN:VTIMEZONE
TZID:America/New_York
BEGIN:DAYLIGHT
TZOFFSETFROM:-0500
TZOFFSETTO:-0400
TZNAME:EDT
DTSTART:20170312T070000
END:DAYLIGHT
BEGIN:STANDARD
TZOFFSETFROM:-0400
TZOFFSETTO:-0500
TZNAME:EST
DTSTART:20171105T060000
END:STANDARD
END:VTIMEZONE
BEGIN:VEVENT
DTSTART;TZID=America/New_York:20170804T180000
DTEND;TZID=America/New_York:20170804T180000
DTSTAMP:20260419T093219
CREATED:20170725T123212Z
LAST-MODIFIED:20170725T123236Z
UID:43803-1501869600-1501869600@www.thecatholictelegraph.com
SUMMARY:St. Louis Homecoming Festival (Owensville) Begins
DESCRIPTION:Aug. 4-6. Games\, Rides and much more! Friday and Saturday end time\, 1 am. \nFor more see our Festival Guide: http://www.thecatholictelegraph.com/festivals
URL:https://www.thecatholictelegraph.com/event/st-louis-homecoming-festival-owensville-begins
LOCATION:St. Louis Church\, Owensville\, 210 N. Broadway\, Owensville\, OH\, 45160\, United States
GEO:39.1242518;-84.1350982
X-APPLE-STRUCTURED-LOCATION;VALUE=URI;X-ADDRESS=St. Louis Church Owensville 210 N. Broadway Owensville OH 45160 United States;X-APPLE-RADIUS=500;X-TITLE=210 N. Broadway:geo:-84.1350982,39.1242518
END:VEVENT
END:VCALENDAR