BEGIN:VCALENDAR
VERSION:2.0
PRODID:-//Catholic Telegraph - ECPv5.2.1.1//NONSGML v1.0//EN
CALSCALE:GREGORIAN
METHOD:PUBLISH
X-WR-CALNAME:Catholic Telegraph
X-ORIGINAL-URL:https://www.thecatholictelegraph.com
X-WR-CALDESC:Events for Catholic Telegraph
BEGIN:VTIMEZONE
TZID:America/New_York
BEGIN:DAYLIGHT
TZOFFSETFROM:-0500
TZOFFSETTO:-0400
TZNAME:EDT
DTSTART:20190310T070000
END:DAYLIGHT
BEGIN:STANDARD
TZOFFSETFROM:-0400
TZOFFSETTO:-0500
TZNAME:EST
DTSTART:20191103T060000
END:STANDARD
END:VTIMEZONE
BEGIN:VEVENT
DTSTART;TZID=America/New_York:20191124T090000
DTEND;TZID=America/New_York:20191124T140000
DTSTAMP:20260425T101219
CREATED:20191111T205847Z
LAST-MODIFIED:20191111T210114Z
UID:60475-1574586000-1574604000@www.thecatholictelegraph.com
SUMMARY:St. Luke Christmas Bazaar
DESCRIPTION:What: The annual St. Luke Christmas Bazaar\nWhere: St Luke School\, 1442 N. Fairfield Road\, Beavercreek\nWhen: Saturday\, November 23 8:00 a.m. – 5:00 p.m. \nAdmission is free and features homemade baked goods\, the return of the homemade candy booth\, handcrafted goods\, holiday decorations\, used books\, CD’s\, DVD’s\, puzzles and games. The bazaar includes music\, entertainment\, delicious food and of course Santa Claus.
URL:https://www.thecatholictelegraph.com/event/st-luke-christmas-bazaar-4
LOCATION:St. Luke School\, 1442 N. Fairfield Road\, Beavercreek\, OH\, 45432\, United States
GEO:39.7316236;-84.0576913
X-APPLE-STRUCTURED-LOCATION;VALUE=URI;X-ADDRESS=St. Luke School 1442 N. Fairfield Road Beavercreek OH 45432 United States;X-APPLE-RADIUS=500;X-TITLE=1442 N. Fairfield Road:geo:-84.0576913,39.7316236
END:VEVENT
END:VCALENDAR