BEGIN:VCALENDAR
VERSION:2.0
PRODID:-//Catholic Telegraph - ECPv5.2.1.1//NONSGML v1.0//EN
CALSCALE:GREGORIAN
METHOD:PUBLISH
X-WR-CALNAME:Catholic Telegraph
X-ORIGINAL-URL:https://www.thecatholictelegraph.com
X-WR-CALDESC:Events for Catholic Telegraph
BEGIN:VTIMEZONE
TZID:America/New_York
BEGIN:DAYLIGHT
TZOFFSETFROM:-0500
TZOFFSETTO:-0400
TZNAME:EDT
DTSTART:20180311T070000
END:DAYLIGHT
BEGIN:STANDARD
TZOFFSETFROM:-0400
TZOFFSETTO:-0500
TZNAME:EST
DTSTART:20181104T060000
END:STANDARD
END:VTIMEZONE
BEGIN:VEVENT
DTSTART;TZID=America/New_York:20180103T190000
DTEND;TZID=America/New_York:20180103T203000
DTSTAMP:20260419T120621
CREATED:20171219T154528Z
LAST-MODIFIED:20171219T154528Z
UID:47536-1515006000-1515011400@www.thecatholictelegraph.com
SUMMARY:St. Mary's Deanery Religious Ed In-Service Meeting at Holy Redeemer
DESCRIPTION:DREs\, CREs\, AREs\, and catechists are welcome at this in-serve for area Religion teachers. Denise Warnecke from the archdiocese’s Office of Evangelization and Discipleship will be the speaker; there topic will be “Christian Meditation for Children.” This event can be used toward catechist certification – register with your DRE or CRE. Will be held in the parish hall.
URL:https://www.thecatholictelegraph.com/event/st-marys-deanery-religious-ed-in-service-meeting-at-holy-redeemer
LOCATION:Holy Redeemer\, 120 S. Eastmoor Dr\, New Bremen\, OH\, 45869-0067\, United States
GEO:40.434367;-84.373087
X-APPLE-STRUCTURED-LOCATION;VALUE=URI;X-ADDRESS=Holy Redeemer 120 S. Eastmoor Dr New Bremen OH 45869-0067 United States;X-APPLE-RADIUS=500;X-TITLE=120 S. Eastmoor Dr:geo:-84.373087,40.434367
END:VEVENT
END:VCALENDAR