BEGIN:VCALENDAR
VERSION:2.0
PRODID:-//Catholic Telegraph - ECPv5.2.1.1//NONSGML v1.0//EN
CALSCALE:GREGORIAN
METHOD:PUBLISH
X-WR-CALNAME:Catholic Telegraph
X-ORIGINAL-URL:https://www.thecatholictelegraph.com
X-WR-CALDESC:Events for Catholic Telegraph
BEGIN:VTIMEZONE
TZID:America/New_York
BEGIN:DAYLIGHT
TZOFFSETFROM:-0500
TZOFFSETTO:-0400
TZNAME:EDT
DTSTART:20170312T070000
END:DAYLIGHT
BEGIN:STANDARD
TZOFFSETFROM:-0400
TZOFFSETTO:-0500
TZNAME:EST
DTSTART:20171105T060000
END:STANDARD
END:VTIMEZONE
BEGIN:VEVENT
DTSTART;TZID=America/New_York:20170311T100000
DTEND;TZID=America/New_York:20170311T130000
DTSTAMP:20260419T104355
CREATED:20170215T194523Z
LAST-MODIFIED:20170215T194523Z
UID:39147-1489226400-1489237200@www.thecatholictelegraph.com
SUMMARY:St Patrick's Day Card/Game Party and Lunch (Kettering)
DESCRIPTION:The Dayton Catholic Women’s Club invites area catholic women to a party and lunch to benefit their charities. New this year: vendors! Jewelry\, accessories\, sweet treats\, more.
URL:https://www.thecatholictelegraph.com/event/st-patricks-day-cardgame-party-and-lunch-kettering
LOCATION:Presidential Banquet Center\, Kettering\, 4548 Presidential Way\, Dayton\, OH\, 45429\, United States
GEO:39.6782551;-84.1403521
X-APPLE-STRUCTURED-LOCATION;VALUE=URI;X-ADDRESS=Presidential Banquet Center Kettering 4548 Presidential Way Dayton OH 45429 United States;X-APPLE-RADIUS=500;X-TITLE=4548 Presidential Way:geo:-84.1403521,39.6782551
END:VEVENT
END:VCALENDAR