BEGIN:VCALENDAR
VERSION:2.0
PRODID:-//Catholic Telegraph - ECPv5.2.1.1//NONSGML v1.0//EN
CALSCALE:GREGORIAN
METHOD:PUBLISH
X-WR-CALNAME:Catholic Telegraph
X-ORIGINAL-URL:https://www.thecatholictelegraph.com
X-WR-CALDESC:Events for Catholic Telegraph
BEGIN:VTIMEZONE
TZID:America/New_York
BEGIN:DAYLIGHT
TZOFFSETFROM:-0500
TZOFFSETTO:-0400
TZNAME:EDT
DTSTART:20170312T070000
END:DAYLIGHT
BEGIN:STANDARD
TZOFFSETFROM:-0400
TZOFFSETTO:-0500
TZNAME:EST
DTSTART:20171105T060000
END:STANDARD
END:VTIMEZONE
BEGIN:VEVENT
DTSTART;TZID=America/New_York:20170809T180000
DTEND;TZID=America/New_York:20170809T180000
DTSTAMP:20260421T123815
CREATED:20170809T191742Z
LAST-MODIFIED:20170809T191742Z
UID:44349-1502301600-1502301600@www.thecatholictelegraph.com
SUMMARY:St. Saviour Fall Festival (Rossmoyne) Begins
DESCRIPTION:Sept. 8-10. \nFor more see our Festival Guide: http://www.thecatholictelegraph.com/festivals
URL:https://www.thecatholictelegraph.com/event/st-saviour-fall-festival-rossmoyne-begins
LOCATION:St. Saviour Church\, 4136 Myrtle Avenue\, Cincinnati\, OH\, 45236
GEO:39.2106794;-84.3975386
X-APPLE-STRUCTURED-LOCATION;VALUE=URI;X-ADDRESS=St. Saviour Church 4136 Myrtle Avenue Cincinnati OH 45236;X-APPLE-RADIUS=500;X-TITLE=4136 Myrtle Avenue:geo:-84.3975386,39.2106794
END:VEVENT
END:VCALENDAR