BEGIN:VCALENDAR
VERSION:2.0
PRODID:-//Catholic Telegraph - ECPv5.2.1.1//NONSGML v1.0//EN
CALSCALE:GREGORIAN
METHOD:PUBLISH
X-WR-CALNAME:Catholic Telegraph
X-ORIGINAL-URL:https://www.thecatholictelegraph.com
X-WR-CALDESC:Events for Catholic Telegraph
BEGIN:VTIMEZONE
TZID:America/New_York
BEGIN:DAYLIGHT
TZOFFSETFROM:-0500
TZOFFSETTO:-0400
TZNAME:EDT
DTSTART:20180311T070000
END:DAYLIGHT
BEGIN:STANDARD
TZOFFSETFROM:-0400
TZOFFSETTO:-0500
TZNAME:EST
DTSTART:20181104T060000
END:STANDARD
END:VTIMEZONE
BEGIN:VEVENT
DTSTART;TZID=America/New_York:20180915T150000
DTEND;TZID=America/New_York:20180915T230000
DTSTAMP:20260419T080451
CREATED:20180820T202553Z
LAST-MODIFIED:20180820T202553Z
UID:53357-1537023600-1537052400@www.thecatholictelegraph.com
SUMMARY:St. Vincent Ferrer Fall Fest (Kenwood) Begins
DESCRIPTION:Sept. 15-16. Sunday: Chili Cook Off from 4-6 p.m. \nFor links\, times\, maps\, and more\, click here for The Catholic Telegraph’s 2018 online Festival Guide.
URL:https://www.thecatholictelegraph.com/event/st-vincent-ferrer-fall-fest-kenwood-begins
LOCATION:St. Vincent Ferrer\, 7754 Montgomer Road\, Cincinnati\, OH\, 45236-4202\, United States
GEO:39.194996;-84.383643
X-APPLE-STRUCTURED-LOCATION;VALUE=URI;X-ADDRESS=St. Vincent Ferrer 7754 Montgomer Road Cincinnati OH 45236-4202 United States;X-APPLE-RADIUS=500;X-TITLE=7754 Montgomer Road:geo:-84.383643,39.194996
END:VEVENT
END:VCALENDAR