BEGIN:VCALENDAR
VERSION:2.0
PRODID:-//Catholic Telegraph - ECPv5.2.1.1//NONSGML v1.0//EN
CALSCALE:GREGORIAN
METHOD:PUBLISH
X-WR-CALNAME:Catholic Telegraph
X-ORIGINAL-URL:https://www.thecatholictelegraph.com
X-WR-CALDESC:Events for Catholic Telegraph
BEGIN:VTIMEZONE
TZID:America/New_York
BEGIN:DAYLIGHT
TZOFFSETFROM:-0500
TZOFFSETTO:-0400
TZNAME:EDT
DTSTART:20260308T070000
END:DAYLIGHT
BEGIN:STANDARD
TZOFFSETFROM:-0400
TZOFFSETTO:-0500
TZNAME:EST
DTSTART:20261101T060000
END:STANDARD
END:VTIMEZONE
BEGIN:VEVENT
DTSTART;TZID=America/New_York:20260306T153000
DTEND;TZID=America/New_York:20260306T163000
DTSTAMP:20260422T004716
CREATED:20260301T141752Z
LAST-MODIFIED:20260301T141752Z
UID:105124-1772811000-1772814600@www.thecatholictelegraph.com
SUMMARY:Stations of the Cross at Mary Help of Christians Fort Recovery
DESCRIPTION:Holy Cross Family of Parishes\nStations of the Cross at Mary Help of Christians\, 403 Sharpsburg Road\, Fort Recovery\, OH 45846\nFriday during Lent\n3:30 p.m.\nYouth Group\, Led by Fr. Witt\nMarch 6\, 13\, 20\, 27\n**Soup and games in the Undercroft after Stations
URL:https://www.thecatholictelegraph.com/event/stations-of-the-cross-at-mary-help-of-christians-fort-recovery
LOCATION:Mary Help of Christians (Fort Recovery)\, 403 Sharpsburg Rd.\, Fort Recovery\, OH\, 45846
ATTACH;FMTTYPE=image/jpeg:https://www.thecatholictelegraph.com/wp-content/uploads/2026/02/stations-of-the-cross-1024x538-1.jpg
GEO:40.40831;-84.774761
X-APPLE-STRUCTURED-LOCATION;VALUE=URI;X-ADDRESS=Mary Help of Christians (Fort Recovery) 403 Sharpsburg Rd. Fort Recovery OH 45846;X-APPLE-RADIUS=500;X-TITLE=403 Sharpsburg Rd.:geo:-84.774761,40.40831
END:VEVENT
END:VCALENDAR