BEGIN:VCALENDAR
VERSION:2.0
PRODID:-//Catholic Telegraph - ECPv5.2.1.1//NONSGML v1.0//EN
CALSCALE:GREGORIAN
METHOD:PUBLISH
X-WR-CALNAME:Catholic Telegraph
X-ORIGINAL-URL:https://www.thecatholictelegraph.com
X-WR-CALDESC:Events for Catholic Telegraph
BEGIN:VTIMEZONE
TZID:America/New_York
BEGIN:DAYLIGHT
TZOFFSETFROM:-0500
TZOFFSETTO:-0400
TZNAME:EDT
DTSTART:20260308T070000
END:DAYLIGHT
BEGIN:STANDARD
TZOFFSETFROM:-0400
TZOFFSETTO:-0500
TZNAME:EST
DTSTART:20261101T060000
END:STANDARD
END:VTIMEZONE
BEGIN:VEVENT
DTSTART;TZID=America/New_York:20260304T083000
DTEND;TZID=America/New_York:20260304T093000
DTSTAMP:20260421T205757
CREATED:20260303T224111Z
LAST-MODIFIED:20260303T224111Z
UID:105281-1772613000-1772616600@www.thecatholictelegraph.com
SUMMARY:Stations of the Cross at St Joseph North Bend
DESCRIPTION:Divine Mercy Family of Parishes\nStations of the Cross at St. Joseph\, 25 East Harrison Ave. North Bend\, OH 45052\nWednesdays during Lent\n8:30 a.m.
URL:https://www.thecatholictelegraph.com/event/stations-of-the-cross-at-st-joseph-north-bend
LOCATION:St. Joseph Church (North Bend)\, 25 E. Harrison St.\, North Bend\, OH\, 45052
ATTACH;FMTTYPE=image/jpeg:https://www.thecatholictelegraph.com/wp-content/uploads/2026/02/7.-Jesus-Falls-for-the-Second-Time.jpg
GEO:39.1527651;-84.746268
X-APPLE-STRUCTURED-LOCATION;VALUE=URI;X-ADDRESS=St. Joseph Church (North Bend) 25 E. Harrison St. North Bend OH 45052;X-APPLE-RADIUS=500;X-TITLE=25 E. Harrison St.:geo:-84.746268,39.1527651
END:VEVENT
END:VCALENDAR