BEGIN:VCALENDAR
VERSION:2.0
PRODID:-//Catholic Telegraph - ECPv5.2.1.1//NONSGML v1.0//EN
CALSCALE:GREGORIAN
METHOD:PUBLISH
X-WR-CALNAME:Catholic Telegraph
X-ORIGINAL-URL:https://www.thecatholictelegraph.com
X-WR-CALDESC:Events for Catholic Telegraph
BEGIN:VTIMEZONE
TZID:America/New_York
BEGIN:DAYLIGHT
TZOFFSETFROM:-0500
TZOFFSETTO:-0400
TZNAME:EDT
DTSTART:20260308T070000
END:DAYLIGHT
BEGIN:STANDARD
TZOFFSETFROM:-0400
TZOFFSETTO:-0500
TZNAME:EST
DTSTART:20261101T060000
END:STANDARD
END:VTIMEZONE
BEGIN:VEVENT
DTSTART;TZID=America/New_York:20260227T090000
DTEND;TZID=America/New_York:20260227T100000
DTSTAMP:20260421T211318
CREATED:20260227T153608Z
LAST-MODIFIED:20260227T153608Z
UID:104950-1772182800-1772186400@www.thecatholictelegraph.com
SUMMARY:Stations of the Cross at St. Mary Queen of Heaven Peebles
DESCRIPTION:Our Lady of the Hills Family of Parishes\nStations of the Cross at St. Mary Queen of Heaven Peebles\, 205 Wendell Ave.\, Peebles\, OH 45660\nFridays during Lent\n9:00 a.m.
URL:https://www.thecatholictelegraph.com/event/stations-of-the-cross-at-st-mary-queen-of-heaven-peebles/2026-02-27
LOCATION:Mary Queen of Heaven (Peebles)\, 205 Wendell AVenue\, Peebles\, Ohio\, 45660
ATTACH;FMTTYPE=image/png:https://www.thecatholictelegraph.com/wp-content/uploads/2026/02/stations.webp.png
GEO:38.952546;-83.4070421
X-APPLE-STRUCTURED-LOCATION;VALUE=URI;X-ADDRESS=Mary Queen of Heaven (Peebles) 205 Wendell AVenue Peebles Ohio 45660;X-APPLE-RADIUS=500;X-TITLE=205 Wendell AVenue:geo:-83.4070421,38.952546
END:VEVENT
END:VCALENDAR