BEGIN:VCALENDAR
VERSION:2.0
PRODID:-//Catholic Telegraph - ECPv5.2.1.1//NONSGML v1.0//EN
CALSCALE:GREGORIAN
METHOD:PUBLISH
X-WR-CALNAME:Catholic Telegraph
X-ORIGINAL-URL:https://www.thecatholictelegraph.com
X-WR-CALDESC:Events for Catholic Telegraph
BEGIN:VTIMEZONE
TZID:America/New_York
BEGIN:DAYLIGHT
TZOFFSETFROM:-0500
TZOFFSETTO:-0400
TZNAME:EDT
DTSTART:20260308T070000
END:DAYLIGHT
BEGIN:STANDARD
TZOFFSETFROM:-0400
TZOFFSETTO:-0500
TZNAME:EST
DTSTART:20261101T060000
END:STANDARD
END:VTIMEZONE
BEGIN:VEVENT
DTSTART;TZID=America/New_York:20260403T123000
DTEND;TZID=America/New_York:20260403T133000
DTSTAMP:20260421T152039
CREATED:20260403T102552Z
LAST-MODIFIED:20260403T102552Z
UID:106427-1775219400-1775223000@www.thecatholictelegraph.com
SUMMARY:Stations of the Cross at St Philip Morrow
DESCRIPTION:Our Lady of Hope Family of Parishes\nStations of the Cross at St Philip\, 944 E. US 22 & 3\, Morrow OH\, 45152-9690\nGood Friday April 3\n12:30 p.m.
URL:https://www.thecatholictelegraph.com/event/stations-of-the-cross-at-st-philip-morrow
LOCATION:St. Philip the Apostle\, 944 E US 22 & 3\, Morrow\, OH\, 45122\, United States
ATTACH;FMTTYPE=image/jpeg:https://www.thecatholictelegraph.com/wp-content/uploads/2026/02/4016-863a3884-7be4-4002-b0bf-56e643269d98.jpg
END:VEVENT
END:VCALENDAR